BEGIN:VCALENDAR
VERSION:2.0
PRODID:-//ChamberMaster//Event Calendar 2.0//EN
METHOD:PUBLISH
X-PUBLISHED-TTL:P3D
REFRESH-INTERVAL:P3D
CALSCALE:GREGORIAN
BEGIN:VEVENT
DTSTART;VALUE=DATE:20190928
DTEND;VALUE=DATE:20190930
TRANSP:TRANSPARENT
X-MICROSOFT-CDO-ALLDAYEVENT:TRUE
SUMMARY:2019 22nd Annual Tour of Remodeled Homes
DESCRIPTION:The 2019 Tour of Remodeled Homes will feature remodeling projects in homes throughout Pierce County. Homeowners are opening their doors to showcase their professionally remodeled homes\, including media rooms\, master suites\, kitchens\, bathrooms\, whole-house remodels\, and more! Homes on the tour reflect a large variety of interior design and architectural trends. The tour is presented by members of the Remodelors Council of the Master Builders Association of Pierce County. The remodeler for each project will be present at each house to answer your questions.\n\n\n\nA portion of the Tour proceeds benefit the Mary Bridge Helping Hands Fund and the MultiCare Tree House. \n\n\n\nFor details about the 2019 tour visit www.mba-tour.com. Tickets can be purchased online by clicking "register now" above.\n\n\n\nWhether you're looking to remodel\, buy\, or just need some inspiration\, the 22nd Annual Tour of Remodeled Homes will have something for you!\n\n\n\nAbout Mary Bridge Foundation's Helping Hands\n\nThe Helping Hands Program at Mary Bridge Children's Foundation is a special fund that helps remove barriers to care and healing for patients and their families. Funds are managed by social workers at MultiCare -- 8\,375 patients and family members received a Helping Hand in 2018. Click here for program highlights.
X-ALT-DESC;FMTTYPE=text/html:The 2019 Tour of Remodeled Homes will feature remodeling projects in homes throughout Pierce County. Homeowners are opening their doors to showcase their professionally remodeled homes\, including media rooms\, master suites\, kitchens\, bathrooms\, whole-house remodels\, and more! Homes on the tour reflect a large variety of interior design and architectural trends. The tour is presented by members of the Remodelors Council of the Master Builders Association of Pierce County. The remodeler for each project will be present at each house to answer your questions.<br />\n<br />\nA portion of the Tour proceeds benefit the Mary Bridge Helping Hands Fund and the MultiCare Tree House.&nbsp\;<br />\n<br />\nFor details about the 2019 tour visit&nbsp\;<a href="http://www.mba-tour.com">www.mba-tour.com</a>. Tickets can be purchased online by clicking <em><strong>&quot\;register now&quot\; </strong></em>above.<br />\n<br />\nWhether you&#39\;re looking to remodel\, buy\, or just need some inspiration\, the 22nd Annual Tour of Remodeled Homes will have something for you!<br />\n<br />\n<u><strong>About Mary Bridge Foundation&#39\;s Helping Hands</strong></u><br />\nThe Helping Hands Program at <a href="https://support.multicare.org/site/SPageServer?pagename=MaryBridgeChildrensFoundation" target="_blank">Mary Bridge Children&#39\;s Foundation</a> is a special fund that helps remove barriers to care and healing for patients and their families. Funds are managed by social workers at MultiCare -- 8\,375 patients and family members received a Helping Hand in 2018. <a href="https://www.multicare.org/generosity-report/helpinghands/" target="_blank">Click here</a> for program highlights.&nbsp\;
LOCATION:Various locations throughout Pierce County *Since the tour homes are private residences\, tour locations will be revealed Wednesday\, September 25\, 2019. Please Note: Tour Homes are not ADA accessible. Handicap parking may be available but not guaranteed.
UID:e.9280.3903
SEQUENCE:3
DTSTAMP:20260421T112020Z
URL:https://members.masterbuilderspierce.com/events/details/2019-22nd-annual-tour-of-remodeled-homes-3903
END:VEVENT

END:VCALENDAR
