BEGIN:VCALENDAR
VERSION:2.0
PRODID:-//ChamberMaster//Event Calendar 2.0//EN
METHOD:PUBLISH
X-PUBLISHED-TTL:P3D
REFRESH-INTERVAL:P3D
CALSCALE:GREGORIAN
BEGIN:VEVENT
DTSTART:20180523T003000Z
DTEND:20180523T040000Z
X-MICROSOFT-CDO-ALLDAYEVENT:FALSE
SUMMARY:2018 REX Awards (Remodeling Excellence)
DESCRIPTION:2018 REX Awards Presented by Contract Furnishings Mart\n\n\n\nJoin the celebration of the Remodeling Excellence Award Winners at the 21st Annual MBA Pierce Remodelors Council REX Awards! This celebration will be held on Tuesday\, May 22 at Tin Can Alley in Tacoma. Cocktail attire.\n\n\n\nFor twenty one years\, the Remodelors Council has honored the best of the best in Pierce County and this year is no different! This event sold out last year\, be sure to get your spot reserved now.\n\n\n\nDEADLINE TO RSVP IS WEDNESDAY\, MAY 16 - RSVP's made after this date are not guaranteed menu choices.\n\n\n\nSeating is at tables of 8. Your ticket includes appetizers\, choice of dinner\, dessert and two beverage tickets.
X-ALT-DESC;FMTTYPE=text/html:<strong>2018 REX Awards Presented by Contract Furnishings Mart</strong><br />\n<br />\n<em>Join the celebration of the Remodeling Excellence Award Winners at the&nbsp\;<strong>21st&nbsp\;Annual MBA Pierce&nbsp\;Remodelors&nbsp\;Council REX Awards</strong>! This celebration will be held on Tuesday\, May 22 at Tin Can Alley in Tacoma. Cocktail attire.</em><br />\n<br />\n<em>For twenty one years\, the&nbsp\;Remodelors&nbsp\;Council has honored the best of the best in Pierce County and this year is no different! This event sold out last year\, be sure to get your spot reserved now.<br />\n<br />\n<strong>DEADLINE TO RSVP IS WEDNESDAY\, MAY 16 - RSVP&#39\;s made after this date are not guaranteed menu choices.</strong></em><br />\n<br />\nSeating is at tables of 8. Your ticket includes appetizers\, choice of dinner\, dessert and two beverage tickets.&nbsp\;
LOCATION:
UID:e.9280.2314
SEQUENCE:3
DTSTAMP:20260421T152950Z
URL:https://members.masterbuilderspierce.com/events/details/2018-rex-awards-remodeling-excellence-2314
END:VEVENT

END:VCALENDAR
