BEGIN:VCALENDAR
VERSION:2.0
PRODID:-//ChamberMaster//Event Calendar 2.0//EN
METHOD:PUBLISH
X-PUBLISHED-TTL:P3D
REFRESH-INTERVAL:P3D
CALSCALE:GREGORIAN
BEGIN:VEVENT
DTSTART:20180926T003000Z
DTEND:20180926T023000Z
X-MICROSOFT-CDO-ALLDAYEVENT:FALSE
SUMMARY:2018 Remodelors Council Meeting - September
DESCRIPTION:Join us for the Remodelors Council meeting at Cosentino hosted by Valley Fabricators. Don't miss your chance to tour the facility along with a presentation on Product Dekton by Cosentino and Facades. There will also be give-a-ways\, you won't want to miss it!\n\n\n\nThis event is free for Remdelors Council members. An Italian dinner and drinks will be provided. Register today!
X-ALT-DESC;FMTTYPE=text/html:<span style="color: rgb(51\, 51\, 51)\; font-family: sans-serif\, Arial\, Verdana\, &quot\;Trebuchet MS&quot\;\; font-size: 13px\; background-color: rgb(255\, 255\, 255)\;">Join us for the Remodelors Council meeting at Cosentino hosted by Valley Fabricators. Don&#39\;t miss your chance to tour the facility along with a presentation on Product Dekton by Cosentino and Facades. There will also be give-a-ways\, you won&#39\;t want to miss it!</span><br />\n<br />\n<span style="background-color: rgb(255\, 255\, 255)\;"><font color="#333333" face="sans-serif\, Arial\, Verdana\, Trebuchet MS"><span style="font-size: 13px\;">This event is free for Remdelors Council members. An Italian&nbsp\;dinner and drinks will be provided. Register today!&nbsp\;</span></font></span><br style="color: rgb(51\, 51\, 51)\; font-family: sans-serif\, Arial\, Verdana\, &quot\;Trebuchet MS&quot\;\; font-size: 13px\;" />\n&nbsp\;
LOCATION:Cosentino 19024 62nd Ave S\, Kent\, WA 98032
UID:e.9280.3682
SEQUENCE:3
DTSTAMP:20260421T101338Z
URL:https://members.masterbuilderspierce.com/events/details/2018-remodelors-council-meeting-september-3682
END:VEVENT

END:VCALENDAR
