BEGIN:VCALENDAR
VERSION:2.0
PRODID:-//ChamberMaster//Event Calendar 2.0//EN
METHOD:PUBLISH
X-PUBLISHED-TTL:P3D
REFRESH-INTERVAL:P3D
CALSCALE:GREGORIAN
BEGIN:VEVENT
DTSTART;VALUE=DATE:20180614
DTEND;VALUE=DATE:20180615
TRANSP:TRANSPARENT
X-MICROSOFT-CDO-ALLDAYEVENT:TRUE
SUMMARY:2018 MBA Pierce Golf Classic Presented by Approach Management Services
DESCRIPTION:Join us for the 2018 Annual Golf Classic on June 14\, 2018 at High Cedars Golf Course\n\n\n\nRegistration begins at 8:00 a.m. \n\nShotgun Start at 9:30 a.m. \n\n\n\nRegistration includes Breakfast / Lunch / Dinner\, Cart Rental\, Drink Ticket\, Green Fees\, and a Gift Bag. Sponsors will provide games\, freebies\, beverages and snacks. Sign up early to reserve your spot. Only 36 team spots available and only four (4) golfers per team. Space is limited\, no more than four (4) teams per company\, one team per registration form. Individuals may register and will be assigned to a team.\n\n\n\nDon't wait\, spaces fill up fast\, complete below and mail or email to the MBA Office.\n\n\n\n**If you are a sponsor who will be serving any kind of alcohol you MUST have a MAST Class 12 permit. This is something you can do online here:\n\nhttps://lcb.wa.gov/mastrvp/mandatory_alcohol_server_training#get_an_alcohol_server
X-ALT-DESC;FMTTYPE=text/html:<span style="color: rgb(51\, 51\, 51)\; line-height: 20.8px\; font-family: sans-serif\, Arial\, Verdana\, &quot\;Trebuchet MS&quot\;\; font-size: 13px\; background-color: rgb(255\, 255\, 255)\;">Join us for the 2018 Annual Golf Classic on June 14</span><span style="color: rgb(51\, 51\, 51)\; line-height: 20.8px\; font-family: sans-serif\, Arial\, Verdana\, &quot\;Trebuchet MS&quot\;\; font-size: 13px\; background-color: rgb(255\, 255\, 255)\;">\, 2018 at High Cedars Golf Course</span><br />\n<br />\nRegistration begins at 8:00 a.m.&nbsp\;<br />\nShotgun Start at&nbsp\;9:30 a.m.&nbsp\;<br />\n<br />\nRegistration includes Breakfast / Lunch / Dinner\, Cart Rental\, Drink Ticket\, Green Fees\, and a Gift Bag. Sponsors will provide games\, freebies\, beverages and snacks. Sign up early to reserve your spot. Only 36 team spots available and only four (4) golfers per team. Space is limited\, no more than four (4) teams per company\, one team per registration form. Individuals may register and will be assigned to a team.<br />\n<br />\nDon&rsquo\;t wait\, spaces fill up fast\, complete below and mail or email to the MBA Office.<br />\n<br />\n**If you are a sponsor who will be serving any kind of alcohol you MUST have a MAST Class 12 permit. This is something you can do online here:<br />\n<a href="https://lcb.wa.gov/mastrvp/mandatory_alcohol_server_training#get_an_alcohol_server">https://lcb.wa.gov/mastrvp/mandatory_alcohol_server_training#get_an_alcohol_server</a><br />\n&nbsp\;
LOCATION:High Cedars Golf Course 14604 149th St Ct E\, Orting\, WA 98360
UID:e.9280.2391
SEQUENCE:3
DTSTAMP:20260421T153255Z
URL:https://members.masterbuilderspierce.com/events/details/2018-mba-pierce-golf-classic-presented-by-approach-management-services-2391
END:VEVENT

END:VCALENDAR
