BEGIN:VCALENDAR
VERSION:2.0
PRODID:-//ChamberMaster//Event Calendar 2.0//EN
METHOD:PUBLISH
X-PUBLISHED-TTL:P3D
REFRESH-INTERVAL:P3D
CALSCALE:GREGORIAN
BEGIN:VEVENT
DTSTART:20180517T210000Z
DTEND:20180517T220000Z
X-MICROSOFT-CDO-ALLDAYEVENT:FALSE
SUMMARY:2018 MBA Pierce Golf Classic Committee Meeting - May
DESCRIPTION:Golf Classic Committee May Meeting
X-ALT-DESC;FMTTYPE=text/html:Golf Classic Committee May Meeting
LOCATION:MBA Office 3711 Center St Tacoma\, WA 98409
UID:e.9280.3396
SEQUENCE:3
DTSTAMP:20260421T153320Z
URL:https://members.masterbuilderspierce.com/events/details/2018-mba-pierce-golf-classic-committee-meeting-may-3396
END:VEVENT

END:VCALENDAR
