BEGIN:VCALENDAR
VERSION:2.0
PRODID:-//ChamberMaster//Event Calendar 2.0//EN
METHOD:PUBLISH
X-PUBLISHED-TTL:P3D
REFRESH-INTERVAL:P3D
CALSCALE:GREGORIAN
BEGIN:VEVENT
DTSTART:20180322T210000Z
DTEND:20180322T220000Z
X-MICROSOFT-CDO-ALLDAYEVENT:FALSE
SUMMARY:2018 MBA Pierce Golf Classic Committee Meeting - March
DESCRIPTION:Help make the 2018 MBA Pierce Golf Classic another huge success! Join the Golf committee to take part in the planning and execution of one the associations most popular events.
X-ALT-DESC;FMTTYPE=text/html:Help make the 2018 MBA Pierce Golf Classic another huge success! Join the Golf committee to take part in the planning and execution of one the associations most popular events.&nbsp\;
LOCATION:High Cedars Golf Course
UID:e.9280.2390
SEQUENCE:3
DTSTAMP:20260421T185222Z
URL:https://members.masterbuilderspierce.com/events/details/2018-mba-pierce-golf-classic-committee-meeting-march-2390
END:VEVENT

END:VCALENDAR
