BEGIN:VCALENDAR
VERSION:2.0
PRODID:-//ChamberMaster//Event Calendar 2.0//EN
METHOD:PUBLISH
X-PUBLISHED-TTL:P3D
REFRESH-INTERVAL:P3D
CALSCALE:GREGORIAN
BEGIN:VEVENT
DTSTART:20180418T003000Z
DTEND:20180418T023000Z
X-MICROSOFT-CDO-ALLDAYEVENT:FALSE
SUMMARY:2018 General Membership Meeting - April
DESCRIPTION:Join MBA Pierce at our Spring General Membership Meeting at Bass Pro Shop in Tacoma! This is your chance to meet your 2018 Board of Directors\, mingle with your fellow members and learn from a Bass Pro Shop fishing expert.  This event is generously sponsored by BIll Korum Puyallyp Nissan and Puget Sound Energy.\n\n\n\nThere will also be bowling and dinner provided!
X-ALT-DESC;FMTTYPE=text/html:Join MBA Pierce at our Spring General Membership Meeting at Bass Pro Shop in Tacoma! This is your chance to meet your 2018 Board of Directors\, mingle with your fellow members and learn from a Bass Pro Shop fishing expert.&nbsp\; This event is generously sponsored by BIll Korum Puyallyp Nissan and Puget Sound Energy.<br />\n<br />\nThere will also be bowling and dinner provided!&nbsp\;
LOCATION:Bass Pro Shops 7905 S. Hosmer St. Tacoma\, WA 98408
UID:e.9280.2365
SEQUENCE:3
DTSTAMP:20260421T183910Z
URL:https://members.masterbuilderspierce.com/events/details/2018-general-membership-meeting-april-2365
END:VEVENT

END:VCALENDAR
