BEGIN:VCALENDAR
VERSION:2.0
PRODID:-//ChamberMaster//Event Calendar 2.0//EN
METHOD:PUBLISH
X-PUBLISHED-TTL:P3D
REFRESH-INTERVAL:P3D
CALSCALE:GREGORIAN
BEGIN:VEVENT
DTSTART;VALUE=DATE:20180929
DTEND;VALUE=DATE:20181001
TRANSP:TRANSPARENT
X-MICROSOFT-CDO-ALLDAYEVENT:TRUE
SUMMARY:2018 21st Annual Tour of Remodeled Homes
DESCRIPTION:Join us for the biggest public event of the year! The Tour of Remodeled Homes is back for it's 21st anniversary and better than ever. This year's homes feature completely remodeled kitchens\, masterbaths\, entertainment rooms\, and so much more! \n\n\n\nWhether you're looking to remodel\, buy\, or just need some inspiration\, the 21st Annual Tour of Remodeled Homes will have something for you. \n\nTo purchase your ticket\, click the green "Register Now" button above.
X-ALT-DESC;FMTTYPE=text/html:<p><span style="font-size: 14px\;"><span style="font-family: arial\;"><span style="background-color: rgb(255\, 255\, 255)\;">Join us for the biggest public event of the year! The Tour of Remodeled Homes is back for it&#39\;s&nbsp\;</span>21st<span style="background-color: rgb(255\, 255\, 255)\;">&nbsp\;anniversary and better than ever. This year&#39\;s homes feature completely remodeled kitchens\,&nbsp\;</span>masterbaths<span style="background-color: rgb(255\, 255\, 255)\;">\, entertainment rooms\, and so much more!&nbsp\;</span><br />\n<br />\n<span style="background-color: rgb(255\, 255\, 255)\;">Whether you&#39\;re looking to remodel\, buy\, or just need some inspiration\, the 21st Annual Tour of Remodeled Homes will have something for you.&nbsp\;</span></span></span></p>\n\n<p><span style="color:#FF0000\;"><strong><span style="font-size: 14px\;"><span style="font-family: arial\;"><span style="background-color: rgb(255\, 255\, 255)\;">To purchase your ticket\, click the green &quot\;Register Now&quot\; button above.&nbsp\;</span></span></span></strong></span><br />\n<br />\n&nbsp\;</p>\n
LOCATION:Various locations throughout Pierce County
UID:e.9280.3544
SEQUENCE:3
DTSTAMP:20260421T103157Z
URL:https://members.masterbuilderspierce.com/events/details/2018-21st-annual-tour-of-remodeled-homes-3544
END:VEVENT

END:VCALENDAR
