BEGIN:VCALENDAR
VERSION:2.0
PRODID:-//ChamberMaster//Event Calendar 2.0//EN
METHOD:PUBLISH
X-PUBLISHED-TTL:P3D
REFRESH-INTERVAL:P3D
CALSCALE:GREGORIAN
BEGIN:VEVENT
DTSTART:20170414T223000Z
DTEND:20170414T233000Z
X-MICROSOFT-CDO-ALLDAYEVENT:FALSE
SUMMARY:2017 REX Committee Meeting - April
DESCRIPTION:REX Committee Meeting
X-ALT-DESC;FMTTYPE=text/html:REX Committee Meeting
LOCATION:Liberty Theater 116 W Main Ave Puyallup\, WA 98371
UID:e.9280.2000
SEQUENCE:3
DTSTAMP:20260422T112619Z
URL:https://members.masterbuilderspierce.com/events/details/2017-rex-committee-meeting-april-2000
END:VEVENT

END:VCALENDAR
