BEGIN:VCALENDAR
VERSION:2.0
PRODID:-//ChamberMaster//Event Calendar 2.0//EN
METHOD:PUBLISH
X-PUBLISHED-TTL:P3D
REFRESH-INTERVAL:P3D
CALSCALE:GREGORIAN
BEGIN:VEVENT
DTSTART:20171025T003000Z
DTEND:20171025T023000Z
X-MICROSOFT-CDO-ALLDAYEVENT:FALSE
SUMMARY:2017 Remodelors Council Meeting - October
DESCRIPTION:The Remodelors Council will be meeting at Water Concepts for the October meeting. Join your fellow remodelers and building professionals for food\, drinks\, and a look at the latest and greatest from Water Concepts Kitchen & Bath Showroom.
X-ALT-DESC;FMTTYPE=text/html:The&nbsp\;Remodelors&nbsp\;Council will be meeting at Water Concepts for the October meeting. Join your fellow&nbsp\;remodelers&nbsp\;and building professionals for food\, drinks\, and a look at the latest and greatest from Water Concepts Kitchen &amp\; Bath Showroom. &nbsp\; &nbsp\;&nbsp\;
LOCATION:Water Concepts Kitchen & Bath Showroom 3505 S Tacoma Way\, Tacoma\, WA 98409
UID:e.9280.2035
SEQUENCE:3
DTSTAMP:20260422T022003Z
URL:https://members.masterbuilderspierce.com/events/details/2017-remodelors-council-meeting-october-2035
END:VEVENT

END:VCALENDAR
