BEGIN:VCALENDAR
VERSION:2.0
PRODID:-//ChamberMaster//Event Calendar 2.0//EN
METHOD:PUBLISH
X-PUBLISHED-TTL:P3D
REFRESH-INTERVAL:P3D
CALSCALE:GREGORIAN
BEGIN:VEVENT
DTSTART:20171129T013000Z
DTEND:20171129T033000Z
X-MICROSOFT-CDO-ALLDAYEVENT:FALSE
SUMMARY:2017 Remodelors Council Meeting - November
DESCRIPTION:The Remodelors Council is returning to Milgard Windows & Doors for the last meeting of the year! Join your fellow remodelers and building professionals for food\, drinks\, and a look at the newest inventory from Milgard\, including moving glass wall systems and new doors. \n\n\n\nCome early to tour the showroom! Food and non-alchololic drinks provided. Register today!
X-ALT-DESC;FMTTYPE=text/html:The&nbsp\;Remodelors&nbsp\;Council is returning to Milgard Windows &amp\; Doors for the last&nbsp\;meeting of the year! Join your fellow&nbsp\;remodelers&nbsp\;and building professionals for food\, drinks\, and a look at the newest inventory from Milgard\, including moving glass wall systems and new doors.&nbsp\;<br />\n<br />\nCome early to tour the showroom! Food and non-alchololic drinks provided. Register today!&nbsp\;
LOCATION:Milgard Windows & Doors 965 54th Avenue East\, Fife\, WA
UID:e.9280.2036
SEQUENCE:3
DTSTAMP:20260422T022120Z
URL:https://members.masterbuilderspierce.com/events/details/2017-remodelors-council-meeting-november-2036
END:VEVENT

END:VCALENDAR
