BEGIN:VCALENDAR
VERSION:2.0
PRODID:-//ChamberMaster//Event Calendar 2.0//EN
METHOD:PUBLISH
X-PUBLISHED-TTL:P3D
REFRESH-INTERVAL:P3D
CALSCALE:GREGORIAN
BEGIN:VEVENT
DTSTART:20170524T003000Z
DTEND:20170524T043000Z
X-MICROSOFT-CDO-ALLDAYEVENT:FALSE
SUMMARY:2017 Remodeling Excellence Awards
DESCRIPTION:2017 REX Awards Presented by Contract Furnishings Mart\n\n\n\nJoin the unmasking celebration of the Remodeling Excellence Award Winners at the 20th Annual MBA Pierce Remodelors Council REX Awards! This masquerade celebration will be held on Tuesday\, May 23 at the Liberty Theater in Puyallup.\n\n\n\nFor twenty years\, the Remodelors Council has honored the best of the best in Pierce County and this year is no different! This event sold out last year\, be sure to get your spot reserved now.\n\n\n\nDEADLINE TO RSVP IS WEDNESDAY\, MAY 17 - RSVP's made after this date are not guaranteed menu choices.\n\n\n\nAttendees are encouraged to join the Masquerade theme by wearing a mask for the evening. Seating is at tables of 8. Your ticket includes appetizers\, choice of dinner\, dessert and two beverage tickets.
X-ALT-DESC;FMTTYPE=text/html:<span style="font-size: 14px\;"><span style="font-size: 18px\;"><span style="font-size: 20px\;"><strong>2017 REX Awards Presented by Contract Furnishings Mart</strong></span><br />\n<br />\n<em>Join the unmasking celebration of the Remodeling Excellence Award Winners at the <strong>20th Annual MBA Pierce Remodelors Council REX Awards</strong>! This masquerade celebration will be held on Tuesday\, May 23 at the Liberty Theater in Puyallup.</em><br />\n<br />\n<em>For twenty years\, the Remodelors Council has honored the best of the best in Pierce County and this year is no different! This event sold out last year\, be sure to get your spot reserved now.<br />\n<br />\n<strong>DEADLINE TO RSVP IS WEDNESDAY\, MAY 17 - RSVP&#39\;s made after this date are not guaranteed menu choices.</strong></em></span></span><br />\n<br />\n<span style="font-size: 14px\;">Attendees are encouraged to join the Masquerade theme by wearing a mask for the evening. Seating is at tables of 8. Your ticket includes appetizers\, choice of dinner\, dessert and two beverage tickets.&nbsp\;</span>
LOCATION:Liberty Theater 116 West Main Avenue Puyallup\, Washington 98371
UID:e.9280.2002
SEQUENCE:3
DTSTAMP:20260422T095905Z
URL:https://members.masterbuilderspierce.com/events/details/2017-remodeling-excellence-awards-2002
END:VEVENT

END:VCALENDAR
