BEGIN:VCALENDAR
VERSION:2.0
PRODID:-//ChamberMaster//Event Calendar 2.0//EN
METHOD:PUBLISH
X-PUBLISHED-TTL:P3D
REFRESH-INTERVAL:P3D
CALSCALE:GREGORIAN
BEGIN:VEVENT
DTSTART:20171215T013000Z
DTEND:20171215T053000Z
X-MICROSOFT-CDO-ALLDAYEVENT:FALSE
SUMMARY:2017 Presidents Gala Presented by Parr Lumber
DESCRIPTION:Join MBA Pierce at the 2017 President's Gala & Awards Celebration on December 14\, 2017 at the Courtyard Tacoma Downtown. It's going to be a speak-easy\, so dress to impress in your swankiest flappers and fedoras. \n\n\n\nThis is your opportunity to say thank you to outgoing President\, Bill Sager of Sager Family Homes and welcome Cliff Kendall of Wren & Willow as the Master Builders Association of Pierce County's 2018 President. \n\n\n\nThe winners for the 2018 Member Recognition Awards will also be announced\, so don't miss you opportunity to see who won Member of the Year\, Remodeler of Year\, Builder of the Year\, Design Professional of the Year and more! It could be you.
X-ALT-DESC;FMTTYPE=text/html:Join MBA Pierce at the 2017 President&#39\;s Gala &amp\; Awards Celebration on December 14\, 2017 at the Courtyard Tacoma Downtown. It&#39\;s going to be a speak-easy\, so dress to impress in your swankiest flappers and fedoras.&nbsp\;<br />\n<br />\nThis is your opportunity to say thank you to outgoing President\, Bill Sager of Sager Family Homes and welcome Cliff Kendall of Wren &amp\; Willow as the Master Builders Association of Pierce County&#39\;s 2018 President.&nbsp\;<br />\n<br />\nThe winners for the 2018 Member Recognition Awards will also be announced\, so don&#39\;t miss you opportunity to see who won Member of the Year\, Remodeler of Year\, Builder of the Year\, Design Professional of the Year and more! It could be you.&nbsp\;
LOCATION:Courtyard by Marriott Tacoma Downtown 1515 Commerce St\, Tacoma\, WA 98402
UID:e.9280.2046
SEQUENCE:3
DTSTAMP:20260422T004518Z
URL:https://members.masterbuilderspierce.com/events/details/2017-presidents-gala-presented-by-parr-lumber-2046
END:VEVENT

END:VCALENDAR
