BEGIN:VCALENDAR
VERSION:2.0
PRODID:-//ChamberMaster//Event Calendar 2.0//EN
METHOD:PUBLISH
X-PUBLISHED-TTL:P3D
REFRESH-INTERVAL:P3D
CALSCALE:GREGORIAN
BEGIN:VEVENT
DTSTART:20171107T233000Z
DTEND:20171108T010000Z
X-MICROSOFT-CDO-ALLDAYEVENT:FALSE
SUMMARY:2017 President's Gala Committee Meeting
DESCRIPTION:2017 President's Gala Committee Meeting
X-ALT-DESC;FMTTYPE=text/html:2017 President&#39\;s Gala Committee Meeting
LOCATION:Johnny's at Fife 5211 20th St E Fife
UID:e.9280.2054
SEQUENCE:3
DTSTAMP:20260422T022111Z
URL:https://members.masterbuilderspierce.com/events/details/2017-president-s-gala-committee-meeting-2054
END:VEVENT

END:VCALENDAR
