BEGIN:VCALENDAR
VERSION:2.0
PRODID:-//ChamberMaster//Event Calendar 2.0//EN
METHOD:PUBLISH
X-PUBLISHED-TTL:P3D
REFRESH-INTERVAL:P3D
CALSCALE:GREGORIAN
BEGIN:VEVENT
DTSTART:20170406T180000Z
DTEND:20170406T210000Z
X-MICROSOFT-CDO-ALLDAYEVENT:FALSE
SUMMARY:2017 MBA Pierce Housing Forum
DESCRIPTION:You are invited to the Master Builders Association of Pierce County 2017 Housing Forum\, presented by Newland Communities & Phillips Burgess PLLC.  Come join us on April 6\, 2017 at 11:00am at the Pioneer Park Pavilion in Puyallup to hear the 2017 economic forecast and more.  Speakers/topics will include the following:\n\n \n\nJosh Brown\, Executive Officer for the Puget Sound Regional Council--PSRC goals and directives for the region and how those tie to the economic projections for Pierce County.\n\n \n\nBruce Dammeier\, Pierce County Executive--Vision and plan for economic growth in Pierce County. \n\n \n\nMatthew Gardner\, Chief Economist for Windermere Real Estate--Economic forecast and its impact on the real estate market for 2017\n\n \n\nRegistration for this event will be FREE for MBA members\, Elected Officials and Jurisdiction Staff.  Lunch will be provided.  \n\nRegistration for Realtors & Affiliates (non-MBA members): $15.00\n\nRegistration for the general public (non-MBA members): $25.00\n\n\n\nSupporting sponsors for this event are Soundbuilt Homes\, Quadrant Homes and First American Title.
X-ALT-DESC;FMTTYPE=text/html:<span style="font-size: medium\;"><span style="font-family: calibri\;">You are invited to the Master Builders Association of Pierce County 2017 Housing Forum\, presented by Newland Communities &amp\; Phillips Burgess PLLC.&nbsp\; Come join us on April 6\, 2017 at 11:00am at the Pioneer Park Pavilion in Puyallup to hear the 2017 economic forecast and more.&nbsp\; Speakers/topics will include the following:</span></span><br />\n&nbsp\;<br />\n<span style="font-size: medium\;"><span style="font-family: calibri\;"><strong>Josh Brown\, Executive Officer for the Puget Sound Regional Council--</strong><em>PSRC goals and directives for the region and how those tie to the economic projections for Pierce County</em>.</span></span><br />\n&nbsp\;<br />\n<span style="font-size: medium\;"><span style="font-family: calibri\;"><strong>Bruce Dammeier\, Pierce County Executive--</strong><em>Vision and plan for economic growth in Pierce</em> <em><span style="font-size: medium\;">County</span></em>. </span></span><br />\n&nbsp\;<br />\n<span style="font-size: medium\;"><span style="font-family: calibri\;"><strong><span style="font-size: medium\;">Matthew Gardner\, Chief Economist for Windermere Real Estate--</span></strong><em>Economic forecast and its impact on the real estate market for 2017</em></span></span><br />\n&nbsp\;<br />\n<span style="font-size: medium\;"><span style="font-family: calibri\;"><span style="color: rgb(255\, 0\, 0)\;"><strong><em><u><span style="font-size: medium\;">Registration for this event will be </span><span style="font-size: 20px\;">FREE</span><span style="font-size: medium\;"><span style="font-size: 20px\;"> </span>for MBA members\, Elected Officials and Jurisdiction Staff.&nbsp\;&nbsp\;Lunch will be provided</span></u></em></strong>.&nbsp\; </span><br />\nRegistration for Realtors &amp\; Affiliates&nbsp\;(non-MBA members): $15.00<br />\nRegistration for the general public (non-MBA members): $25.00<br />\n<br />\nSupporting sponsors for this event are Soundbuilt Homes\,&nbsp\;Quadrant Homes and First American Title.</span></span><br />\n&nbsp\;
LOCATION:Pioneer Park Pavilion 330 S. Meridian Puyallup\, WA 98371
UID:e.9280.1843
SEQUENCE:3
DTSTAMP:20260422T112617Z
URL:https://members.masterbuilderspierce.com/events/details/2017-mba-pierce-housing-forum-1843
END:VEVENT

END:VCALENDAR
