BEGIN:VCALENDAR
VERSION:2.0
PRODID:-//ChamberMaster//Event Calendar 2.0//EN
METHOD:PUBLISH
X-PUBLISHED-TTL:P3D
REFRESH-INTERVAL:P3D
CALSCALE:GREGORIAN
BEGIN:VEVENT
DTSTART;VALUE=DATE:20170623
DTEND;VALUE=DATE:20170624
TRANSP:TRANSPARENT
X-MICROSOFT-CDO-ALLDAYEVENT:TRUE
SUMMARY:2017 MBA Pierce Golf Classic
DESCRIPTION:Join us for the 2017 Annual Golf Classic on June 23\, 2017 at Lipoma Firs Golf Course. \n\nRegistration begins at 8:00 am\n\nShotgun Start at 9:30 am\n\nRegistration includes Breakfast / Lunch / Dinner\, Cart Rental\, Drink Ticket\, Green Fees\, and a Gift Bag. Sponsors will provide games\, freebies\, beverages and snacks. Sign up early to reserve your spot. Only 36 team spots available and only four (4) golfers per team. Space is limited\, no more than four (4) teams per company\, one team per registration form. Individuals may register and will be assigned to a team.\n\nDon't wait\, spaces fill up fast\, complete below and mail or email to the MBA Office
X-ALT-DESC;FMTTYPE=text/html:<span style="color: rgb(51\, 51\, 51)\; line-height: 20.8px\; font-family: sans-serif\, Arial\, Verdana\, &quot\;Trebuchet MS&quot\;\; font-size: 13px\; background-color: rgb(255\, 255\, 255)\;">Join us for the 2017&nbsp\;Annual Golf Classic on June 23</span><span style="color: rgb(51\, 51\, 51)\; line-height: 20.8px\; font-family: sans-serif\, Arial\, Verdana\, &quot\;Trebuchet MS&quot\;\; font-size: 13px\; background-color: rgb(255\, 255\, 255)\;">\, 2017 at&nbsp\;</span>Lipoma<span style="color: rgb(51\, 51\, 51)\; line-height: 20.8px\; font-family: sans-serif\, Arial\, Verdana\, &quot\;Trebuchet MS&quot\;\; font-size: 13px\; background-color: rgb(255\, 255\, 255)\;">&nbsp\;Firs Golf Course.&nbsp\;</span><br />\nRegistration begins at 8:00 am<br />\nShotgun Start at&nbsp\;9:30 am<br />\nRegistration includes Breakfast / Lunch / Dinner\, Cart Rental\, Drink Ticket\, Green Fees\, and a Gift Bag. Sponsors will provide games\, freebies\, beverages and snacks. Sign up early to reserve your spot. Only 36 team spots available and only four (4) golfers per team. Space is limited\, no more than four (4) teams per company\, one team per registration form. Individuals may register and will be assigned to a team.<br />\nDon&rsquo\;t wait\, spaces fill up fast\, complete below and mail or email to the MBA Office<br />\n&nbsp\;
LOCATION:Lipoma Firs Golf Course 10410 187th Street East Puyallup\, WA 98374
UID:e.9280.1822
SEQUENCE:3
DTSTAMP:20260422T100044Z
URL:https://members.masterbuilderspierce.com/events/details/2017-mba-pierce-golf-classic-1822
END:VEVENT

END:VCALENDAR
