BEGIN:VCALENDAR
VERSION:2.0
PRODID:-//ChamberMaster//Event Calendar 2.0//EN
METHOD:PUBLISH
X-PUBLISHED-TTL:P3D
REFRESH-INTERVAL:P3D
CALSCALE:GREGORIAN
BEGIN:VEVENT
DTSTART:20170913T003000Z
DTEND:20170913T023000Z
X-MICROSOFT-CDO-ALLDAYEVENT:FALSE
SUMMARY:2017 General Membership Meeting - September Tacoma: The City of Craftsmanship
DESCRIPTION:Join MBA Pierce at our Fall General Membership Meeting during Associate Appreciation Month planned by our Design Professionals Council at the Tacoma Art Museum.\n\n\n\nThere will be food\, beverages and a guest-speaker presentation by local historian\, Michael Sullivan of Artifacts Inc.\n\n\n\nRegister before September 7 for the discounted rate and Associate Members receive a $5 discount in honor of Associate Appreciation Month!\n\n\n\nAbout the speaker:\n\nMichael has been practicing and teaching Historic Preservation methodology in the Pacific Northwest for over 30 years. He has been at the forefront of local preservation issues\, policies and projects. As Principal of Artifacts Consulting\, Michael has instituted a focus on preservation policy that focuses on architectural treatments\, investment tax credit strategies\, and historic resources regulatory compliance. Michael has been directly involved in applications and approval of more than $100 million in tax incentive leveraged rehabilitation projects and has been an advocate for historic preservation efforts at virtually every level of activity from world heritage site issues to local landmark campaigns.
X-ALT-DESC;FMTTYPE=text/html:Join MBA Pierce at our Fall General Membership Meeting during Associate Appreciation Month planned by our Design Professionals Council at the Tacoma Art Museum.<br />\n<br />\nThere will be food\, beverages and a guest-speaker presentation by local historian\, Michael Sullivan of Artifacts Inc.<br />\n<br />\nRegister before September 7 for the discounted rate and Associate Members receive a $5 discount in honor of Associate Appreciation Month!<br />\n<br />\n<span style="font-size:14px\;"><strong>About the speaker:</strong></span><br />\nMichael has been practicing and teaching Historic Preservation methodology in the Pacific Northwest for over 30 years. He has been at the forefront of local preservation issues\, policies and projects. As Principal of Artifacts Consulting\, Michael has instituted a focus on preservation policy that focuses on architectural treatments\, investment tax credit strategies\, and historic resources regulatory compliance. Michael has been directly involved in applications and approval of more than $100 million in tax incentive leveraged rehabilitation projects and has been an advocate for historic preservation efforts at virtually every level of activity from world heritage site issues to local landmark campaigns.
LOCATION:Tacoma Art Museum 1701 Pacific Avenue Tacoma\, WA 98402
UID:e.9280.1850
SEQUENCE:3
DTSTAMP:20260422T053603Z
URL:https://members.masterbuilderspierce.com/events/details/2017-general-membership-meeting-september-tacoma-the-city-of-craftsmanship-1850
END:VEVENT

END:VCALENDAR
