BEGIN:VCALENDAR
VERSION:2.0
PRODID:-//ChamberMaster//Event Calendar 2.0//EN
METHOD:PUBLISH
X-PUBLISHED-TTL:P3D
REFRESH-INTERVAL:P3D
CALSCALE:GREGORIAN
BEGIN:VEVENT
DTSTART:20171018T003000Z
DTEND:20171018T023000Z
X-MICROSOFT-CDO-ALLDAYEVENT:FALSE
SUMMARY:2017 General Membership Meeting - October MBA Pierce Annual Meeting
DESCRIPTION:Join us for the MBA Pierce County Annual General Membership Meeting with special guest Jim Merritt\, candidate for Tacoma Mayor and Meredith Neal\, City Council position 6 candidate.\n\n\n\nWe will also be holding final nominations for the 2018 Board of Directors.
X-ALT-DESC;FMTTYPE=text/html:Join us for the MBA Pierce County Annual General Membership Meeting with special guest Jim Merritt\, candidate for Tacoma Mayor and Meredith Neal\, City Council position 6 candidate.<br />\n<br />\nWe will also be holding final nominations for the 2018 Board of Directors.
LOCATION:Great American Casino Lakewood 10117 South Tacoma Way Tacoma\, WA 98499
UID:e.9280.1851
SEQUENCE:3
DTSTAMP:20260422T022347Z
URL:https://members.masterbuilderspierce.com/events/details/2017-general-membership-meeting-october-mba-pierce-annual-meeting-1851
END:VEVENT

END:VCALENDAR
