BEGIN:VCALENDAR
VERSION:2.0
PRODID:-//ChamberMaster//Event Calendar 2.0//EN
METHOD:PUBLISH
X-PUBLISHED-TTL:P3D
REFRESH-INTERVAL:P3D
CALSCALE:GREGORIAN
BEGIN:VEVENT
DTSTART:20170222T013000Z
DTEND:20170222T040000Z
X-MICROSOFT-CDO-ALLDAYEVENT:FALSE
SUMMARY:2017 General Membership Meeting - February
DESCRIPTION:ALL ABOUT TECH ...\n\n\n\nJoin MBA Pierce for the first General Membership Meeting of 2017 at the Pine Room in Tacoma! Time to get down to business as we have two local experts talking about Cybersecurity and Search Engine Optimization (SEO) to take care of and boost your business! \n\n\n\nRobert Nissenbaum\, Tactical Social Media - Get Noticed Online\n\nLearn how to shift your view of social media to understand its less about content and more about networking and building relationships. Rather than focusing on keywords and link building strategies\, learn how to optimize naturally and organically - the way Google intended!   \n\n\n\nBrad Stutz\, AMS Technology - Are You A Sitting Duck?\n\nCybercrime is at an all-time high and hackers are setting their sights on small and medium businesses. Learn the 7 most critical IT security protections to have in place to protect from cybercrime\, data breaches and hacker attacks and take home valuable information about what you can do now. \n\n\n\nRegister before February 17 and receive a $5 Early Bird Discount!
X-ALT-DESC;FMTTYPE=text/html:<strong>ALL ABOUT TECH ...</strong><br />\n<br />\nJoin MBA Pierce for the first General Membership Meeting of 2017 at the Pine Room in Tacoma! Time to get down to business as we have two local experts talking about Cybersecurity and Search Engine Optimization (SEO) to take care of and boost your business!&nbsp\;<br />\n<br />\n<strong>Robert Nissenbaum\, Tactical Social Media - Get Noticed Online</strong><br />\nLearn how to shift your view of social media to understand its less about content and more about networking and building relationships. Rather than focusing on keywords and link building strategies\, learn how to optimize naturally and organically - the way Google intended! &nbsp\;&nbsp\;<br />\n<br />\n<strong>Brad Stutz\, AMS Technology - Are You A Sitting Duck?</strong><br />\nCybercrime is at an all-time high and hackers are setting their sights on small and medium businesses. Learn the 7 most critical IT security protections to have in place to protect from cybercrime\, data breaches and hacker attacks and take home valuable information about what you can do now.&nbsp\;<br />\n<br />\n<strong>Register before February 17 and receive a $5 Early Bird Discount!</strong>
LOCATION:Pine Room Tacoma 2811 6th Ave Tacoma\, WA 98406
UID:e.9280.1791
SEQUENCE:3
DTSTAMP:20260422T143252Z
URL:https://members.masterbuilderspierce.com/events/details/2017-general-membership-meeting-february-1791
END:VEVENT

END:VCALENDAR
