BEGIN:VCALENDAR
VERSION:2.0
PRODID:-//ChamberMaster//Event Calendar 2.0//EN
METHOD:PUBLISH
X-PUBLISHED-TTL:P3D
REFRESH-INTERVAL:P3D
CALSCALE:GREGORIAN
BEGIN:VEVENT
DTSTART:20170412T003000Z
DTEND:20170412T023000Z
X-MICROSOFT-CDO-ALLDAYEVENT:FALSE
SUMMARY:2017 General Membership Meeting - April A Blueprint for Leading Change
DESCRIPTION:Join us for the MBA Pierce County's April General Membership Meeting - A Blueprint for Leading Change at the Tacoma Art Museum. \n\n\n\nThere will be food\, beverages and a guest-speaker presentation by local author\, Erik Van Alstine. Erik's book\, Automatic Influence: New Power for Change in Work and in Life\, focuses on the mental and behavioral motivation behind making changes that last. \n\n\n\nRegister before April 6\, for the discounted rate! \n\n \n\nAbout the speaker: \n\nErik Van Alstine is a humorous\, dynamic communicator and leadership strategist\, helping people boost their power to work and live better. \n\n \n\nErik founded several businesses\, including a leadership consulting firm headed by one of Harvard Business School's most recognized professors of leadership. Erik's other companies have served several New York Times bestselling authors\, leading executives\, and some of the world's largest retailers.\n\n \n\nHe and his wife Sandy have six children\, have been married for twenty-six years\, and live in the Seattle area.
X-ALT-DESC;FMTTYPE=text/html:Join us for the MBA Pierce County&#39\;s April General Membership Meeting -&nbsp\;<em>A Blueprint for Leading Change&nbsp\;</em>at the Tacoma Art Museum.&nbsp\;<br />\n<br />\nThere will be food\, beverages and a guest-speaker presentation by local author\, Erik Van Alstine. Erik&#39\;s book\, <em>Automatic Influence: New Power for Change in Work and in Life</em>\, focuses on the mental and behavioral motivation behind making changes that last.&nbsp\;<br />\n<br />\nRegister before April 6\, for the discounted rate!&nbsp\;<br />\n&nbsp\;<br />\n<strong><span style="font-family:tahoma\;"><span style="font-size:18px\;">About the speaker:&nbsp\;</span></span></strong><br />\nErik Van Alstine is a humorous\, dynamic communicator and leadership strategist\, helping people boost their power to work and live better.&nbsp\;<br />\n&nbsp\;<br />\nErik founded several businesses\, including a leadership consulting firm headed by one of Harvard Business School&#39\;s most recognized professors of leadership. Erik&#39\;s other companies have served several&nbsp\;New York Times&nbsp\;bestselling authors\, leading executives\, and some of the world&#39\;s largest retailers.<br />\n&nbsp\;<br />\nHe and his wife Sandy have six children\, have been married for twenty-six years\, and live in the Seattle area.
LOCATION:Tacoma Art Museum - Murray Family Event Space 1701 Pacific Ave.\, Tacoma\, WA 98402
UID:e.9280.1849
SEQUENCE:3
DTSTAMP:20260422T113005Z
URL:https://members.masterbuilderspierce.com/events/details/2017-general-membership-meeting-april-a-blueprint-for-leading-change-1849
END:VEVENT

END:VCALENDAR
