BEGIN:VCALENDAR
VERSION:2.0
PRODID:-//ChamberMaster//Event Calendar 2.0//EN
METHOD:PUBLISH
X-PUBLISHED-TTL:P3D
REFRESH-INTERVAL:P3D
CALSCALE:GREGORIAN
BEGIN:VEVENT
DTSTART:20171208T010000Z
DTEND:20171208T030000Z
X-MICROSOFT-CDO-ALLDAYEVENT:FALSE
SUMMARY:2017 Elected Officials Reception presented by Newland Communities
DESCRIPTION:2017 MBA of Pierce County & Tacoma-Pierce County Association of REALTORS  \n\nElected Officials Reception presented by Newland Communities\n\n\n\nThe MBA of Pierce County and Tacoma-Pierce County Association of REALTORS  are proud to co-host an evening reception for both association's members and leadership to meet with city\, county and state elected officials from throughout Pierce County who will be serving in office in 2018.\n\n \n\nComplimentary catered hors d?oeuvres and refreshments.
X-ALT-DESC;FMTTYPE=text/html:<span style="font-family: arial\;"><span style="font-size: 20px\;"><span style="font-style: italic\; font-weight: bold\; language: en-US\;"><span style="color: rgb(255\, 0\, 0)\;">2017 MBA of Pierce County &amp\; Tacoma-Pierce County Association of </span></span><strong><span style="color: rgb(255\, 0\, 0)\;"><em>REALTORS&reg\; </em></span></strong></span><br />\n<span style="font-style: italic\; font-weight: bold\; language: en-US\;"><span style="font-size: 14pt\;"><span style="color: rgb(255\, 0\, 0)\;"><span style="font-size: 20px\;">Elected Officials Reception presented by Newland Communities</span></span></span></span><br />\n<br />\n<span style="font-size: 16px\;"><span style="color: black\;"><strong><em>The MBA of Pierce County </em></strong></span><span style="font-style: italic\; font-weight: bold\; language: en-US\;"><span style="color: black\;">and Tacoma-Pierce County Association<strong> of </strong></span></span><em><strong>REALTORS</strong>&reg\; </em><span style="font-style: italic\; font-weight: bold\; language: en-US\;"><span style="color: black\;">are proud to co-host an</span></span> <span style="font-style: italic\; font-weight: bold\; language: en-US\;"><span style="color: black\;">evening reception for both </span></span><span style="font-style: italic\; font-weight: bold\; language: en-US\;"><span style="color: black\;">association&#39\;s</span></span><span style="font-style: italic\; font-weight: bold\; language: en-US\;"><span style="color: black\;"> members and leadership to meet with city\, county and state elected officials</span></span> <span style="font-style: italic\; font-weight: bold\; language: en-US\;"><span style="color: black\;">from throughout Pierce County</span></span><span style="font-style: italic\; font-weight: bold\; language: en-US\;"><span style="color: black\;"> who will be serving in office in 2018.</span></span><br />\n&nbsp\;<br />\n<span style="font-style: italic\; font-weight: bold\; language: en-US\;"><span style="color: black\;">Complimentary catered hors d?oeuvres and refreshments</span></span><span style="font-weight: bold\; language: en-US\;"><span style="color: black\;">.</span></span></span></span><br />\n&nbsp\;<br />\n&nbsp\;
LOCATION:MBA of Pierce County Office 3711 Center Street Tacoma\, WA 98409
UID:e.9280.2056
SEQUENCE:3
DTSTAMP:20260421T230709Z
URL:https://members.masterbuilderspierce.com/events/details/2017-elected-officials-reception-presented-by-newland-communities-2056
END:VEVENT

END:VCALENDAR
