BEGIN:VCALENDAR
VERSION:2.0
PRODID:-//ChamberMaster//Event Calendar 2.0//EN
METHOD:PUBLISH
X-PUBLISHED-TTL:P3D
REFRESH-INTERVAL:P3D
CALSCALE:GREGORIAN
BEGIN:VEVENT
DTSTART:20171101T223000Z
DTEND:20171101T233000Z
X-MICROSOFT-CDO-ALLDAYEVENT:FALSE
SUMMARY:2017 DPC Development Committee - November
DESCRIPTION:The Design Professionals Council Steering committee plans\, coordinates\, and determines overall direction for the DPC meetings.
X-ALT-DESC;FMTTYPE=text/html:The Design Professionals Council Steering committee plans\, coordinates\, and determines overall direction for the DPC meetings.&nbsp\;
LOCATION:Johnny's at Fife 5211 20th St E Fife
UID:e.9280.2023
SEQUENCE:3
DTSTAMP:20260422T004040Z
URL:https://members.masterbuilderspierce.com/events/details/2017-dpc-development-committee-november-2023
END:VEVENT

END:VCALENDAR
