BEGIN:VCALENDAR
VERSION:2.0
PRODID:-//ChamberMaster//Event Calendar 2.0//EN
METHOD:PUBLISH
X-PUBLISHED-TTL:P3D
REFRESH-INTERVAL:P3D
CALSCALE:GREGORIAN
BEGIN:VEVENT
DTSTART:20170801T223000Z
DTEND:20170801T233000Z
X-MICROSOFT-CDO-ALLDAYEVENT:FALSE
SUMMARY:2017 DPC Development Committee - August
DESCRIPTION:
X-ALT-DESC;FMTTYPE=text/html:
LOCATION:Johnny's at Fife 5211 20th St E Fife
UID:e.9280.1989
SEQUENCE:3
DTSTAMP:20260422T062819Z
URL:https://members.masterbuilderspierce.com/events/details/2017-dpc-development-committee-august-1989
END:VEVENT

END:VCALENDAR
