BEGIN:VCALENDAR
VERSION:2.0
PRODID:-//ChamberMaster//Event Calendar 2.0//EN
METHOD:PUBLISH
X-PUBLISHED-TTL:P3D
REFRESH-INTERVAL:P3D
CALSCALE:GREGORIAN
BEGIN:VEVENT
DTSTART:20170829T223000Z
DTEND:20170829T233000Z
X-MICROSOFT-CDO-ALLDAYEVENT:FALSE
SUMMARY:2017 DPC Development Committee - August
DESCRIPTION:
X-ALT-DESC;FMTTYPE=text/html:
LOCATION:Johnny's at Fife 5211 20th St E Fife
UID:e.9280.2021
SEQUENCE:3
DTSTAMP:20260422T052748Z
URL:https://members.masterbuilderspierce.com/events/details/2017-dpc-development-committee-august-08-29-2017-2021
END:VEVENT

END:VCALENDAR
