BEGIN:VCALENDAR
VERSION:2.0
PRODID:-//ChamberMaster//Event Calendar 2.0//EN
METHOD:PUBLISH
X-PUBLISHED-TTL:P3D
REFRESH-INTERVAL:P3D
CALSCALE:GREGORIAN
BEGIN:VEVENT
DTSTART:20171014T000000Z
DTEND:20171014T030000Z
X-MICROSOFT-CDO-ALLDAYEVENT:FALSE
SUMMARY:2017 Brewers & Builders
DESCRIPTION:It's that great time of year\n\nwhen we all get our fill\;\n\nof tasty pretzels and ice cold beer!\n\nPlease join us for our annual\n\nBrewers & Builders Event\n\nFeaturing beer from Gig Harbor Brewing\, Top Rung Brewing\, Cole Street Brewing\, Odd Otter Brewing\, Dunagan Brewing Co.\, and Schilling Cider.\n\n\n\nTickets include a heavy appetizer buffet\, beer pong and\n\nunlimited tastings from local brewers!
X-ALT-DESC;FMTTYPE=text/html:<p style="text-align:center"><span style="font-family:arial\,sans-serif\; font-size:13.5pt">It&#39\;s that great time of year</span></p>\n\n<p style="text-align:center"><span style="font-family:arial\,sans-serif\; font-size:13.5pt">when we all get our fill\;<br />\nof </span><span style="font-family:arial\,sans-serif\; font-size:13.5pt">tasty pretzels and ice cold beer!</span></p>\n\n<p style="text-align:center"><span style="font-family:arial\,sans-serif\; font-size:13.5pt">Please join us for our annual<br />\nBrewers &amp\; Builders Event<br />\nFeaturing beer from Gig <span style="font-size:18px">Harbor Brewing\, Top Rung Brewing\, Cole Street Brewing\, Odd Otter Brewing\, Dunagan Brewing Co.\, and Schilling Cider.</span></span><br />\n<br />\n<span style="font-size:18px">Tickets include a heavy appetizer buffet\, beer pong and<br />\n<u>unlimited</u> tastings from local brewers!</span></p>\n\n<p style="text-align:center">&nbsp\;</p>\n\n<p>&nbsp\;</p>\n
LOCATION:Cheney Stadium 2502 S Tyler St\, Tacoma\, WA 98405
UID:e.9280.2050
SEQUENCE:3
DTSTAMP:20260422T021814Z
URL:https://members.masterbuilderspierce.com/events/details/2017-brewers-builders-2050
END:VEVENT

END:VCALENDAR
