BEGIN:VCALENDAR
VERSION:2.0
PRODID:-//ChamberMaster//Event Calendar 2.0//EN
METHOD:PUBLISH
X-PUBLISHED-TTL:P3D
REFRESH-INTERVAL:P3D
CALSCALE:GREGORIAN
BEGIN:VEVENT
DTSTART:20170106T010000Z
DTEND:20170106T030000Z
X-MICROSOFT-CDO-ALLDAYEVENT:FALSE
SUMMARY:2016 Spike Party
DESCRIPTION:THIS EVENT IS OPEN TO CURRENT ACTIVE SPIKES ONLY-Please contact Darcy or Kim if you have a question about your Spike status.\n\n\n\nJoin your fellow Spikes for an evening of cocktails and appetizers to celebrate a fantastic membership year at MBA Pierce County! You have accumulated enough NAHB Spike Points to qualify for an invitation to the party\, now all you have to do is invite a guest (if you would like)\, RSVP and show up!\n\n \n\nThis year's party is generously sponsored by AAA KARTAK Closet and Glass and the 2016 Membership & Spike Committee.  \n\n\n\nPlease RSVP by January 3\, 2017
X-ALT-DESC;FMTTYPE=text/html:<strong>THIS EVENT IS OPEN TO CURRENT ACTIVE SPIKES ONLY-</strong>Please contact Darcy or Kim if you have a question about your Spike status.<br />\n<br />\nJoin your fellow Spikes for an evening of cocktails and appetizers to celebrate a fantastic membership year at MBA Pierce County! You have accumulated enough NAHB Spike Points to qualify for an invitation to the party\, now all you have to do is invite a guest (if you would like)\, RSVP and show up!<br />\n&nbsp\;<br />\nThis year&#39\;s party is generously sponsored by AAA KARTAK&nbsp\;Closet and Glass and the 2016 Membership &amp\; Spike Committee. &nbsp\;<br />\n<br />\nPlease RSVP by January 3\, 2017<br />\n<br />\n<br />\n<br />\n&nbsp\;
LOCATION:Tacoma Cabana 728 Pacific Avenue Tacoma\, WA 98402
UID:e.9280.1654
SEQUENCE:3
DTSTAMP:20260422T154802Z
URL:https://members.masterbuilderspierce.com/events/details/2016-spike-party-1654
END:VEVENT

END:VCALENDAR
