BEGIN:VCALENDAR
VERSION:2.0
PRODID:-//ChamberMaster//Event Calendar 2.0//EN
METHOD:PUBLISH
X-PUBLISHED-TTL:P3D
REFRESH-INTERVAL:P3D
CALSCALE:GREGORIAN
BEGIN:VEVENT
DTSTART:20160525T003000Z
DTEND:20160525T040000Z
X-MICROSOFT-CDO-ALLDAYEVENT:FALSE
SUMMARY:2016 REX Awards & General Membership Meeting
DESCRIPTION:MBA Pierce Remodelors Council invites you to attend the 19th Annual Remodeling Excellence (REX) Awards. Come see the best of the best from our Remodelors Council members as they compete for the coveted awards for their projects. \n\n\n\nCocktails & People's Choice Voting - 5:30 PM\n\nDinner - 7:00 PM\n\nAwards Presentation - 7:30 PM\n\n\n\nTickets are $60 per person. When registering for this event\, please be sure to select a dinner choice for each  attendee. Select from the following:\n\n	Filet Mignon with Demi Glace Sauce\n	Potato Crusted Alaskan Halibut with Sour Cream Dill Sauce\n	Portobello Mushroom Stack (Vegetarian - this option can also be made Vegan if requested)
X-ALT-DESC;FMTTYPE=text/html:MBA Pierce Remodelors Council invites you to attend the 19th Annual Remodeling Excellence (REX) Awards. Come see the best of the best from our Remodelors&nbsp\;Council members as they compete for the coveted awards for their projects.&nbsp\;<br />\n<br />\nCocktails &amp\; People&#39\;s Choice Voting - 5:30 PM<br />\nDinner - 7:00 PM<br />\nAwards Presentation - 7:30 PM<br />\n<br />\nTickets are $60 per person. When registering for this event\,<strong> please be sure to select a dinner choice for <u>each</u>&#8203\;&nbsp\;attendee.</strong> Select from the following:\n<ul>\n	<li>Filet Mignon with Demi Glace Sauce</li>\n	<li>Potato Crusted&nbsp\;Alaskan Halibut with Sour Cream Dill Sauce</li>\n	<li>Portobello Mushroom Stack (Vegetarian - this option can also be made Vegan if requested)</li>\n</ul>\n
LOCATION:Tacoma Country & Golf Club 13204 Country Club Dr SW Lakewood\, WA
UID:e.9280.1086
SEQUENCE:3
DTSTAMP:20260423T053611Z
URL:https://members.masterbuilderspierce.com/events/details/2016-rex-awards-general-membership-meeting-05-24-2016-1086
END:VEVENT

END:VCALENDAR
