BEGIN:VCALENDAR
VERSION:2.0
PRODID:-//ChamberMaster//Event Calendar 2.0//EN
METHOD:PUBLISH
X-PUBLISHED-TTL:P3D
REFRESH-INTERVAL:P3D
CALSCALE:GREGORIAN
BEGIN:VEVENT
DTSTART:20161123T010000Z
DTEND:20161123T020000Z
X-MICROSOFT-CDO-ALLDAYEVENT:FALSE
SUMMARY:2016 Remodelors Council Steering Committee - November 22
DESCRIPTION:Remodelors Council Steering Committee
X-ALT-DESC;FMTTYPE=text/html:Remodelors Council Steering Committee
LOCATION:Bill Korum's Puyallup Nissan 101 Valley Ave NW Puyallup\, WA
UID:e.9280.1516
SEQUENCE:3
DTSTAMP:20260422T201632Z
URL:https://members.masterbuilderspierce.com/events/details/2016-remodelors-council-steering-committee-november-22-1516
END:VEVENT

END:VCALENDAR
