BEGIN:VCALENDAR
VERSION:2.0
PRODID:-//ChamberMaster//Event Calendar 2.0//EN
METHOD:PUBLISH
X-PUBLISHED-TTL:P3D
REFRESH-INTERVAL:P3D
CALSCALE:GREGORIAN
BEGIN:VEVENT
DTSTART:20160127T020000Z
DTEND:20160127T040000Z
X-MICROSOFT-CDO-ALLDAYEVENT:FALSE
SUMMARY:2016 Remodelors Council Meeting - January
DESCRIPTION:Join the MBA Pierce Remodelors Council on Tuesday\, January 26 for their first meeting of 2016 hosted by Metrie. Craving some spicier food? Order your favorite from the local taco truck that Metrie will have onsite serving tacos\, burritos\, taco salad and enchiladas.\n\n\n\nWant to know more about Metrie? Check it out:\n\nSince our beginnings as a small family-owned business in 1926\, we have expanded our offering\, honed our craft and cultivated a passion for design and innovation. Our dedication to creating high-quality\, finely crafted architectural elements has helped us grow to become the largest supplier and manufacturer of solid wood and composite moulding in North America. \n\n\n\nVisit metrie.com\n\nBlog: metrie.com/thefinishedspace/\n\nTwitter: twitter.com/officialmetrie\n\nInstagram: instagram.com/officialmetrie/\n\nFacebook: facebook.com/OfficialMetrie
X-ALT-DESC;FMTTYPE=text/html:Join the MBA Pierce Remodelors Council on Tuesday\, January 26 for their first meeting of 2016 hosted by Metrie. Craving some spicier food? Order your favorite from the local taco truck that&nbsp\;Metrie will have onsite serving tacos\, burritos\, taco salad and enchiladas.<br />\n<br />\nWant to know more about Metrie? Check it out:<br />\nSince our beginnings as a small family-owned business in 1926\, we have expanded our offering\, honed our craft and cultivated a passion for design and innovation. Our dedication to creating high-quality\, finely crafted architectural elements has helped us grow to become the largest supplier and manufacturer of solid wood and composite moulding in North America.&nbsp\;<br />\n<br />\nVisit <a href="http://metrie.com">metrie.com</a><br />\nBlog: <a href="https://metrie.com/thefinishedspace/">metrie.com/thefinishedspace/</a><br />\nTwitter: <a href="https://twitter.com/officialmetrie">twitter.com/officialmetrie</a><br />\nInstagram:<a href="https://www.instagram.com/officialmetrie/"> instagram.com/officialmetrie/</a><br />\nFacebook: <a href="https://www.facebook.com/OfficialMetrie">facebook.com/OfficialMetrie</a><br />\n&nbsp\;
LOCATION:Metrie 2200 140th Ave E\, Suite 600 Sumner\, WA 98390 ***Note: We are physically off 138th St. We are on the NW corner of the building. There is a blue "Moulding & Millwork" sign out front of our office.
UID:e.9280.93
SEQUENCE:3
DTSTAMP:20260423T103744Z
URL:https://members.masterbuilderspierce.com/events/details/2016-remodelors-council-meeting-january-93
END:VEVENT

END:VCALENDAR
