BEGIN:VCALENDAR
VERSION:2.0
PRODID:-//ChamberMaster//Event Calendar 2.0//EN
METHOD:PUBLISH
X-PUBLISHED-TTL:P3D
REFRESH-INTERVAL:P3D
CALSCALE:GREGORIAN
BEGIN:VEVENT
DTSTART:20160224T013000Z
DTEND:20160224T033000Z
X-MICROSOFT-CDO-ALLDAYEVENT:FALSE
SUMMARY:2016 Remodelors Council Meeting - February
DESCRIPTION:
X-ALT-DESC;FMTTYPE=text/html:
LOCATION:
UID:e.9280.92
SEQUENCE:3
DTSTAMP:20260423T084045Z
URL:https://members.masterbuilderspierce.com/events/details/2016-remodelors-council-meeting-february-92
END:VEVENT

END:VCALENDAR
