BEGIN:VCALENDAR
VERSION:2.0
PRODID:-//ChamberMaster//Event Calendar 2.0//EN
METHOD:PUBLISH
X-PUBLISHED-TTL:P3D
REFRESH-INTERVAL:P3D
CALSCALE:GREGORIAN
BEGIN:VEVENT
DTSTART:20161117T000000Z
DTEND:20161117T010000Z
X-MICROSOFT-CDO-ALLDAYEVENT:FALSE
SUMMARY:2016 President's Gala Committee Meeting - November
DESCRIPTION:President's Gala Committee Meeting
X-ALT-DESC;FMTTYPE=text/html:President&#39\;s Gala Committee Meeting
LOCATION:BJ's Restaurant Puyallup South Hill Mall 3703 9th St SW Puyallup\, WA 98373
UID:e.9280.1511
SEQUENCE:3
DTSTAMP:20260422T201632Z
URL:https://members.masterbuilderspierce.com/events/details/2016-president-s-gala-committee-meeting-november-1511
END:VEVENT

END:VCALENDAR
