BEGIN:VCALENDAR
VERSION:2.0
PRODID:-//ChamberMaster//Event Calendar 2.0//EN
METHOD:PUBLISH
X-PUBLISHED-TTL:P3D
REFRESH-INTERVAL:P3D
CALSCALE:GREGORIAN
BEGIN:VEVENT
DTSTART:20161208T000000Z
DTEND:20161208T013000Z
X-MICROSOFT-CDO-ALLDAYEVENT:FALSE
SUMMARY:2016 President's Gala Committee Meeting - December
DESCRIPTION:President's Gala Committee meeting
X-ALT-DESC;FMTTYPE=text/html:President&#39\;s Gala Committee meeting&nbsp\;&nbsp\;&nbsp\;&nbsp\;
LOCATION:BJ's Restaurant Puyallup South Hill
UID:e.9280.1518
SEQUENCE:3
DTSTAMP:20260422T173512Z
URL:https://members.masterbuilderspierce.com/events/details/2016-president-s-gala-committee-meeting-december-1518
END:VEVENT

END:VCALENDAR
