BEGIN:VCALENDAR
VERSION:2.0
PRODID:-//ChamberMaster//Event Calendar 2.0//EN
METHOD:PUBLISH
X-PUBLISHED-TTL:P3D
REFRESH-INTERVAL:P3D
CALSCALE:GREGORIAN
BEGIN:VEVENT
DTSTART:20161216T013000Z
DTEND:20161216T060000Z
X-MICROSOFT-CDO-ALLDAYEVENT:FALSE
SUMMARY:2016 President's Gala & Award Celebration - December presented by Parr Lumber Company
DESCRIPTION:Join MBA Pierce at the 2016 President's Gala & Awards Celebration on December 15\, 2016 at the Courtyard Tacoma Downtown. At the request of incoming President Bill Sager\, the ever-popular Black Tie Blue Jeans "theme" is back\, so get ready to celebrate in your best blue jeans paired with your holiday finery on top! \n\n\n\nThis is your opportunity to thank outgoing President Lyle Fox\, welcome incoming President Bill Sager and meet your MBA Pierce 2017 Board of Directors.\n\n\n\nAlso\, the nominations are in and the Annual "of the Year" awards will be announced. Who will be the MBA Pierce Builder of the Year (Custom and Production)\, Remodeler of the Year\, Company of the Year\, Member of the Year\, New Member of the Year\, Outstanding Associate (Supplier\, Subcontractor\, Professional\, and Design Professional)\, Community Service Volunteer of the Year\, Recruiter of the Year and the Robert Camp Legislative Action Award winner? Be sure not to miss this ... you (or your company) could be the winner!
X-ALT-DESC;FMTTYPE=text/html:Join MBA Pierce at the 2016 President&#39\;s Gala &amp\; Awards Celebration on December 15\, 2016 at the Courtyard Tacoma Downtown. At the request of incoming President Bill Sager\, the ever-popular Black Tie Blue Jeans &quot\;theme&quot\; is back\, so get ready to celebrate in your best blue jeans paired with your holiday finery on top!&nbsp\;<br />\n<br />\nThis is your opportunity to thank outgoing President Lyle Fox\, welcome incoming President Bill Sager and meet your MBA Pierce 2017 Board of Directors.<br />\n<br />\nAlso\, the nominations are in and the Annual &quot\;of the Year&quot\; awards will be announced. Who will be the MBA Pierce Builder of the Year (Custom and Production)\, Remodeler of the Year\, Company of the Year\, Member of the Year\, New Member of the Year\, Outstanding Associate (Supplier\, Subcontractor\, Professional\, and Design Professional)\, Community Service Volunteer of the Year\, Recruiter of the Year and the Robert Camp Legislative Action Award winner? Be sure not to miss this ... you (or your company) could be the winner!
LOCATION:Courtyard Tacoma Downtown 1515 Commerce Street Tacoma\, Washington 98402
UID:e.9280.1515
SEQUENCE:3
DTSTAMP:20260422T172944Z
URL:https://members.masterbuilderspierce.com/events/details/2016-president-s-gala-award-celebration-december-presented-by-parr-lumber-company-1515
END:VEVENT

END:VCALENDAR
