BEGIN:VCALENDAR
VERSION:2.0
PRODID:-//ChamberMaster//Event Calendar 2.0//EN
METHOD:PUBLISH
X-PUBLISHED-TTL:P3D
REFRESH-INTERVAL:P3D
CALSCALE:GREGORIAN
BEGIN:VEVENT
DTSTART:20160504T143000Z
DTEND:20160504T180000Z
X-MICROSOFT-CDO-ALLDAYEVENT:FALSE
SUMMARY:2016 Housing Forum
DESCRIPTION:You are invited to the Master Builders Association of Pierce County 2016 Housing Forum.  Come join us on May 4\, 2016 at the Pioneer Park Pavilion in Puyallup to hear from industry experts in the housing discussion:\n\n	Aaron Terrazas\, Senior Economist for Zillow?Pierce County Housing Market Overview: Prices in an Era of Growth and Tight Supply.\n	Robert Dietz\, Ph.D.\, Chief Economist for the National Association of Home Builders?Housing forecast and building industry issues update for national\, Washington State and the Seattle/Tacoma metropolitan areas\, as well as the impact on housing cost burdens due to land use restrictions including the Growth Management Act. \n\nProgram:\n\n7:30 a.m. - 8:15 a.m.: Registration and networking\n\n8:15 a.m. - 11:00 a.m.: Presentations\n\n\n\n\n\nThank you to our gracious sponsors:\n\nSupporting Sponsor: Newland Communities\n\nSponsor: Quadrant Homes \n\n\n\nEvent Attendees (as of 4/2916)\n\n \n\n28th Legislative District\, Representative Dick Muri\n\nLegislative Assistant to Rep. Muri\, LJ Rohrer\n\nNewland Communities\, Scott Jones\n\nQuadrant Homes\, Corey Watson\n\nPierce County Council\, Dan Roach\n\n25th Legislative District\, Representative Melanie Stambaugh\n\nLegislative Assistant to Rep. Stambaugh\, Shelbi Hogenson\n\nFirst American Title & Escrow Co\, Cathi Mahan\n\nFirst American Title & Escrow Co\, Michele Morse\n\nFirst American Title & Escrow Co\, Ryan Baxter\n\nFirst American Title & Escrow Co\, Janet Matzke\n\nFirst American Title & Escrow Co\, Jason Krause\n\nFirst American Title & Escrow Co\, Julie Strilcov\n\nFirst American Title & Escrow Co\, Kim Schildt\n\nFirst American Title & Escrow Co\, Penny Taylor\n\nGarys Vacuflo Inc\, Michael Geisen\n\nCamp Corporation\, Robert Camp\n\nCentury Insurance Services LLC\, Susie Nelson\n\nFox & Dahlia Homes\, Lyle Fox\n\nFox & Dahlia Homes\, Damon Derosa\n\nFox & Dahlia Homes\, Bill Creveling\n\nFox & Dahlia Homes\, Ray Pelzel\n\nSoundBuilt Northwest\, Kurt Wilson\n\nKeller Williams Realty Tacoma\, Mark Johnson\n\nHeritage Bank\, Gary Rushing\n\nWind River Homes\, Kent Arola\n\nUS Bank\, John Higgins\n\nNorbord\, Randy Robins\n\nBRC Family LLC\, Lori Morrison\n\nBRC Family LLC\, Merritt Riley\n\nBRC Family LLC\, Bill Riley\n\nHendrickson Construction Company\, Ron Hendrickson\n\nHendrickson Construction Company\, Dave Hendrickson\n\nHendrickson Construction Company\, David Hendrickson\n\nHendrickson Construction Company\, Daniel Hendrickson\n\nHendrickson Construction Company\, Zach Stansfield\n\nUS Bank\, Pam Richardson\n\nUS Bank\, Paula Leavitt\n\nLand Home Financial Services\, Carol Pope\n\nPierce County Council\, Derek Young\n\nCity of Bonney Lake\, Jenn Francis\n\nCity of Sumner\, Eric Mendenhall\n\nCity of Bonney Lake\, John Vodopich\n\nBIAW\, Jan Himebaugh\n\nCity of Milton\, Dana Herron\n\nUS Bank\, Brian Michael\n\nWashington State Legislature\, Cinthia Illan Vazquez\n\nWashington State Senate\, Senator Pam Roach\n\nCorliss Homes\, Inc.\, DeAnna Franklin\n\nCorliss Homes\, Inc.\, Eric Corliss\n\nCorliss Homes\, Inc.\, Kristian Franklin\n\nCity of Bonney Lake\, Randy McKibbin\n\nCity of Bonney Lake\, Katrina Minton-Davis\n\nPierce County\, Dennis Hanberg\n\nPierce County\, Melanie Halsan\n\nTacoma-Pierce County Association of Realtors\, Catherine Rudolph\n\nSager Family Homes\, Ali Koch\n\nMBA of King & Snohomish Counties\, David Hoffman\n\nMBA of King & Snohomish Counties\, Allison Butcher\n\nCity of Puyallup\, Tom Utterback\n\nWashington State Senate\, Senator Bruce Dammeier\n\n City of Tacoma\, Sue Coffman\n\n26th Legislative District\, Representative Michelle Caldier\n\n26th Legislative District\, Representative Jesse Young\n\n2nd Legislative District\, Representative Andrew Barkis\n\nAHBL\, Inc.\, Sean Comfort\n\nCity of Tacoma\, Sue Coffman\n\nChicago Title Company\, Denise Sokol\n\nPierce County Council\, Jim McCune\n\nPierce County Council Assistant\, Amy Cruver\n\nCity of University Place\, Mariza Craig\n\nCity of University Place\, Mayor Javier Figueroa\n\nPierce County Council\, Joyce McDonald  \n\nPierce County Council\, Rick Talbert
X-ALT-DESC;FMTTYPE=text/html:<span style="font-size: 14px\;"><span style="font-family: arial\;"><span style="color: black\;">You are invited to the Master Builders Association of Pierce County 2016 Housing Forum.&nbsp\; Come join us on May 4\, 2016 at the Pioneer Park Pavilion in Puyallup to hear from industry experts in the housing discussion:</span></span></span>\n<ul>\n	<li><span style="font-size: 14px\;"><span style="font-family: arial\;"><span style="color: black\;"><strong>Aaron Terrazas\, Senior Economist for Zillow</strong>?<em>Pierce County Housing Market Overview: Prices in an Era of Growth and Tight Supply.</em></span></span></span></li>\n	<li><span style="font-size: 14px\;"><span style="font-family: arial\;"><span style="color: black\;"><strong>Robert Dietz\, Ph.D.\, Chief Economist for the National Association of Home Builders</strong>?<em>Housing forecast and building industry issues update for national\, Washington State and the Seattle/Tacoma metropolitan areas\, as well as the impact on housing cost burdens due to land use restrictions including the Growth Management Act. </em></span></span></span></li>\n</ul>\n<span style="font-family: arial\;"><span style="font-size: 14px\;">Program:<br>\n7:30 a.m. - 8:15 a.m.: Registration and networking<br>\n8:15 a.m. - 11:00 a.m.: Presentations<br>\n<br>\n<br>\nThank you to our gracious sponsors:<br>\n<span style="font-size: 20px\;">Supporting Sponsor: <strong>Newland Communities</strong></span><br>\n<span style="font-size: 18px\;">Sponsor: <strong>Quadrant Homes&nbsp\;<br>\n<br>\nEvent Attendees (as of 4/2916)</strong></span></span></span>\n\n<p style="margin: 0in 0in 0pt\; line-height: normal\;"><span style="font-size: 14px\;"><span style="font-family: arial\;"><span style='color: black\; mso-ascii-font-family: Calibri\; mso-fareast-font-family: "Times New Roman"\; mso-hansi-font-family: Calibri\; mso-bidi-font-family: "Times New Roman"\;'>&#8203\;</span></span></span></p>\n\n<p style="margin: 0in 0in 0pt\; line-height: normal\;"><span style="font-size: 14px\;"><span style="font-family: arial\;"><span style='color: black\; mso-ascii-font-family: Calibri\; mso-fareast-font-family: "Times New Roman"\; mso-hansi-font-family: Calibri\; mso-bidi-font-family: "Times New Roman"\;'>28th Legislative District\, Representative Dick Muri</span></span></span></p>\n\n<p style="margin: 0in 0in 0pt\; line-height: normal\;"><span style="font-size: 14px\;"><span style="font-family: arial\;"><span style='color: black\; mso-ascii-font-family: Calibri\; mso-fareast-font-family: "Times New Roman"\; mso-hansi-font-family: Calibri\; mso-bidi-font-family: "Times New Roman"\;'>Legislative Assistant to Rep. Muri\, LJ Rohrer</span></span></span></p>\n\n<p style="margin: 0in 0in 0pt\; line-height: normal\;"><span style="font-size: 14px\;"><span style="font-family: arial\;"><span style='color: black\; mso-ascii-font-family: Calibri\; mso-fareast-font-family: "Times New Roman"\; mso-hansi-font-family: Calibri\; mso-bidi-font-family: "Times New Roman"\;'>Newland Communities\, Scott Jones</span></span></span></p>\n\n<p style="margin: 0in 0in 0pt\; line-height: normal\;"><span style="font-size: 14px\;"><span style="font-family: arial\;"><span style='color: black\; mso-ascii-font-family: Calibri\; mso-fareast-font-family: "Times New Roman"\; mso-hansi-font-family: Calibri\; mso-bidi-font-family: "Times New Roman"\;'>Quadrant Homes\, Corey Watson</span></span></span></p>\n\n<p style="margin: 0in 0in 0pt\; line-height: normal\;"><span style="font-size: 14px\;"><span style="font-family: arial\;"><span style='color: black\; mso-ascii-font-family: Calibri\; mso-fareast-font-family: "Times New Roman"\; mso-hansi-font-family: Calibri\; mso-bidi-font-family: "Times New Roman"\;'>Pierce County Council\, Dan Roach</span></span></span></p>\n\n<p style="margin: 0in 0in 0pt\; line-height: normal\;"><span style="font-size: 14px\;"><span style="font-family: arial\;"><span style='color: black\; mso-ascii-font-family: Calibri\; mso-fareast-font-family: "Times New Roman"\; mso-hansi-font-family: Calibri\; mso-bidi-font-family: "Times New Roman"\;'>25th Legislative District\, Representative Melanie Stambaugh</span></span></span></p>\n\n<p style="margin: 0in 0in 0pt\; line-height: normal\;"><span style="font-size: 14px\;"><span style="font-family: arial\;"><span style='color: black\; mso-ascii-font-family: Calibri\; mso-fareast-font-family: "Times New Roman"\; mso-hansi-font-family: Calibri\; mso-bidi-font-family: "Times New Roman"\;'>Legislative Assistant to Rep. Stambaugh\, Shelbi Hogenson</span></span></span></p>\n\n<p style="margin: 0in 0in 0pt\; line-height: normal\;"><span style="font-size: 14px\;"><span style="font-family: arial\;"><span style='color: black\; mso-ascii-font-family: Calibri\; mso-fareast-font-family: "Times New Roman"\; mso-hansi-font-family: Calibri\; mso-bidi-font-family: "Times New Roman"\;'>First American Title &amp\; Escrow Co\, Cathi Mahan</span></span></span></p>\n\n<p style="margin: 0in 0in 0pt\; line-height: normal\;"><span style="font-size: 14px\;"><span style="font-family: arial\;"><span style='color: black\; mso-ascii-font-family: Calibri\; mso-fareast-font-family: "Times New Roman"\; mso-hansi-font-family: Calibri\; mso-bidi-font-family: "Times New Roman"\;'>First American Title &amp\; Escrow Co\, Michele Morse</span></span></span></p>\n\n<p style="margin: 0in 0in 0pt\; line-height: normal\;"><span style="font-size: 14px\;"><span style="font-family: arial\;"><span style='color: black\; mso-ascii-font-family: Calibri\; mso-fareast-font-family: "Times New Roman"\; mso-hansi-font-family: Calibri\; mso-bidi-font-family: "Times New Roman"\;'>First American Title &amp\; Escrow Co\, Ryan Baxter</span></span></span></p>\n\n<p style="margin: 0in 0in 0pt\; line-height: normal\;"><span style="font-size: 14px\;"><span style="font-family: arial\;"><span style='color: black\; mso-ascii-font-family: Calibri\; mso-fareast-font-family: "Times New Roman"\; mso-hansi-font-family: Calibri\; mso-bidi-font-family: "Times New Roman"\;'>First American Title &amp\; Escrow Co\, Janet Matzke</span></span></span></p>\n\n<p style="margin: 0in 0in 0pt\; line-height: normal\;"><span style="font-size: 14px\;"><span style="font-family: arial\;"><span style='color: black\; mso-ascii-font-family: Calibri\; mso-fareast-font-family: "Times New Roman"\; mso-hansi-font-family: Calibri\; mso-bidi-font-family: "Times New Roman"\;'>First American Title &amp\; Escrow Co\, Jason Krause</span></span></span></p>\n\n<p style="margin: 0in 0in 0pt\; line-height: normal\;"><span style="font-size: 14px\;"><span style="font-family: arial\;"><span style='color: black\; mso-ascii-font-family: Calibri\; mso-fareast-font-family: "Times New Roman"\; mso-hansi-font-family: Calibri\; mso-bidi-font-family: "Times New Roman"\;'>First American Title &amp\; Escrow Co\, Julie Strilcov</span></span></span></p>\n\n<p style="margin: 0in 0in 0pt\; line-height: normal\;"><span style="font-size: 14px\;"><span style="font-family: arial\;"><span style='color: black\; mso-ascii-font-family: Calibri\; mso-fareast-font-family: "Times New Roman"\; mso-hansi-font-family: Calibri\; mso-bidi-font-family: "Times New Roman"\;'>First American Title &amp\; Escrow Co\, Kim Schildt</span></span></span></p>\n\n<p style="margin: 0in 0in 0pt\; line-height: normal\;"><span style="font-size: 14px\;"><span style="font-family: arial\;"><span style='color: black\; mso-ascii-font-family: Calibri\; mso-fareast-font-family: "Times New Roman"\; mso-hansi-font-family: Calibri\; mso-bidi-font-family: "Times New Roman"\;'>First American Title &amp\; Escrow Co\, Penny Taylor</span></span></span></p>\n\n<p style="margin: 0in 0in 0pt\; line-height: normal\;"><span style="font-size: 14px\;"><span style="font-family: arial\;"><span style='color: black\; mso-ascii-font-family: Calibri\; mso-fareast-font-family: "Times New Roman"\; mso-hansi-font-family: Calibri\; mso-bidi-font-family: "Times New Roman"\;'>Garys Vacuflo Inc\, Michael Geisen</span></span></span></p>\n\n<p style="margin: 0in 0in 0pt\; line-height: normal\;"><span style="font-size: 14px\;"><span style="font-family: arial\;"><span style='color: black\; mso-ascii-font-family: Calibri\; mso-fareast-font-family: "Times New Roman"\; mso-hansi-font-family: Calibri\; mso-bidi-font-family: "Times New Roman"\;'>Camp Corporation\, Robert Camp</span></span></span></p>\n\n<p style="margin: 0in 0in 0pt\; line-height: normal\;"><span style="font-size: 14px\;"><span style="font-family: arial\;"><span style='color: black\; mso-ascii-font-family: Calibri\; mso-fareast-font-family: "Times New Roman"\; mso-hansi-font-family: Calibri\; mso-bidi-font-family: "Times New Roman"\;'>Century Insurance Services LLC\, Susie Nelson</span></span></span></p>\n\n<p style="margin: 0in 0in 0pt\; line-height: normal\;"><span style="font-size: 14px\;"><span style="font-family: arial\;"><span style='color: black\; mso-ascii-font-family: Calibri\; mso-fareast-font-family: "Times New Roman"\; mso-hansi-font-family: Calibri\; mso-bidi-font-family: "Times New Roman"\;'>Fox &amp\; Dahlia Homes\, Lyle Fox</span></span></span></p>\n\n<p style="margin: 0in 0in 0pt\; line-height: normal\;"><span style="font-size: 14px\;"><span style="font-family: arial\;"><span style='color: black\; mso-ascii-font-family: Calibri\; mso-fareast-font-family: "Times New Roman"\; mso-hansi-font-family: Calibri\; mso-bidi-font-family: "Times New Roman"\;'>Fox &amp\; Dahlia Homes\, Damon Derosa</span></span></span></p>\n\n<p style="margin: 0in 0in 0pt\; line-height: normal\;"><span style="font-size: 14px\;"><span style="font-family: arial\;"><span style='color: black\; mso-ascii-font-family: Calibri\; mso-fareast-font-family: "Times New Roman"\; mso-hansi-font-family: Calibri\; mso-bidi-font-family: "Times New Roman"\;'>Fox &amp\; Dahlia Homes\, Bill Creveling</span></span></span></p>\n\n<p style="margin: 0in 0in 0pt\; line-height: normal\;"><span style="font-size: 14px\;"><span style="font-family: arial\;"><span style='color: black\; mso-ascii-font-family: Calibri\; mso-fareast-font-family: "Times New Roman"\; mso-hansi-font-family: Calibri\; mso-bidi-font-family: "Times New Roman"\;'>Fox &amp\; Dahlia Homes\, Ray Pelzel</span></span></span></p>\n\n<p style="margin: 0in 0in 0pt\; line-height: normal\;"><span style="font-size: 14px\;"><span style="font-family: arial\;"><span style='color: black\; mso-ascii-font-family: Calibri\; mso-fareast-font-family: "Times New Roman"\; mso-hansi-font-family: Calibri\; mso-bidi-font-family: "Times New Roman"\;'>SoundBuilt Northwest\, Kurt Wilson</span></span></span></p>\n\n<p style="margin: 0in 0in 0pt\; line-height: normal\;"><span style="font-size: 14px\;"><span style="font-family: arial\;"><span style='color: black\; mso-ascii-font-family: Calibri\; mso-fareast-font-family: "Times New Roman"\; mso-hansi-font-family: Calibri\; mso-bidi-font-family: "Times New Roman"\;'>Keller Williams Realty Tacoma\, Mark Johnson</span></span></span></p>\n\n<p style="margin: 0in 0in 0pt\; line-height: normal\;"><span style="font-size: 14px\;"><span style="font-family: arial\;"><span style='color: black\; mso-ascii-font-family: Calibri\; mso-fareast-font-family: "Times New Roman"\; mso-hansi-font-family: Calibri\; mso-bidi-font-family: "Times New Roman"\;'>Heritage Bank\, Gary Rushing</span></span></span></p>\n\n<p style="margin: 0in 0in 0pt\; line-height: normal\;"><span style="font-size: 14px\;"><span style="font-family: arial\;"><span style='color: black\; mso-ascii-font-family: Calibri\; mso-fareast-font-family: "Times New Roman"\; mso-hansi-font-family: Calibri\; mso-bidi-font-family: "Times New Roman"\;'>Wind River Homes\, Kent Arola</span></span></span></p>\n\n<p style="margin: 0in 0in 0pt\; line-height: normal\;"><span style="font-size: 14px\;"><span style="font-family: arial\;"><span style='color: black\; mso-ascii-font-family: Calibri\; mso-fareast-font-family: "Times New Roman"\; mso-hansi-font-family: Calibri\; mso-bidi-font-family: "Times New Roman"\;'>US Bank\, John Higgins</span></span></span></p>\n\n<p style="margin: 0in 0in 0pt\; line-height: normal\;"><span style="font-size: 14px\;"><span style="font-family: arial\;"><span style='color: black\; mso-ascii-font-family: Calibri\; mso-fareast-font-family: "Times New Roman"\; mso-hansi-font-family: Calibri\; mso-bidi-font-family: "Times New Roman"\;'>Norbord\, Randy Robins</span></span></span></p>\n\n<p style="margin: 0in 0in 0pt\; line-height: normal\;"><span style="font-size: 14px\;"><span style="font-family: arial\;"><span style='color: black\; mso-ascii-font-family: Calibri\; mso-fareast-font-family: "Times New Roman"\; mso-hansi-font-family: Calibri\; mso-bidi-font-family: "Times New Roman"\;'>BRC Family LLC\, Lori Morrison</span></span></span></p>\n\n<p style="margin: 0in 0in 0pt\; line-height: normal\;"><span style="font-size: 14px\;"><span style="font-family: arial\;"><span style='color: black\; mso-ascii-font-family: Calibri\; mso-fareast-font-family: "Times New Roman"\; mso-hansi-font-family: Calibri\; mso-bidi-font-family: "Times New Roman"\;'>BRC Family LLC\, Merritt Riley</span></span></span></p>\n\n<p style="margin: 0in 0in 0pt\; line-height: normal\;"><span style="font-size: 14px\;"><span style="font-family: arial\;"><span style='color: black\; mso-ascii-font-family: Calibri\; mso-fareast-font-family: "Times New Roman"\; mso-hansi-font-family: Calibri\; mso-bidi-font-family: "Times New Roman"\;'>BRC Family LLC\, Bill Riley</span></span></span></p>\n\n<p style="margin: 0in 0in 0pt\; line-height: normal\;"><span style="font-size: 14px\;"><span style="font-family: arial\;"><span style='color: black\; mso-ascii-font-family: Calibri\; mso-fareast-font-family: "Times New Roman"\; mso-hansi-font-family: Calibri\; mso-bidi-font-family: "Times New Roman"\;'>Hendrickson Construction Company\, Ron Hendrickson</span></span></span></p>\n\n<p style="margin: 0in 0in 0pt\; line-height: normal\;"><span style="font-size: 14px\;"><span style="font-family: arial\;"><span style='color: black\; mso-ascii-font-family: Calibri\; mso-fareast-font-family: "Times New Roman"\; mso-hansi-font-family: Calibri\; mso-bidi-font-family: "Times New Roman"\;'>Hendrickson Construction Company\, Dave Hendrickson</span></span></span></p>\n\n<p style="margin: 0in 0in 0pt\; line-height: normal\;"><span style="font-size: 14px\;"><span style="font-family: arial\;"><span style='color: black\; mso-ascii-font-family: Calibri\; mso-fareast-font-family: "Times New Roman"\; mso-hansi-font-family: Calibri\; mso-bidi-font-family: "Times New Roman"\;'>Hendrickson Construction Company\, David Hendrickson</span></span></span></p>\n\n<p style="margin: 0in 0in 0pt\; line-height: normal\;"><span style="font-size: 14px\;"><span style="font-family: arial\;"><span style='color: black\; mso-ascii-font-family: Calibri\; mso-fareast-font-family: "Times New Roman"\; mso-hansi-font-family: Calibri\; mso-bidi-font-family: "Times New Roman"\;'>Hendrickson Construction Company\, Daniel Hendrickson</span></span></span></p>\n\n<p style="margin: 0in 0in 0pt\; line-height: normal\;"><span style="font-size: 14px\;"><span style="font-family: arial\;"><span style='color: black\; mso-ascii-font-family: Calibri\; mso-fareast-font-family: "Times New Roman"\; mso-hansi-font-family: Calibri\; mso-bidi-font-family: "Times New Roman"\;'>Hendrickson Construction Company\, Zach Stansfield</span></span></span></p>\n\n<p style="margin: 0in 0in 0pt\; line-height: normal\;"><span style="font-size: 14px\;"><span style="font-family: arial\;"><span style='color: black\; mso-ascii-font-family: Calibri\; mso-fareast-font-family: "Times New Roman"\; mso-hansi-font-family: Calibri\; mso-bidi-font-family: "Times New Roman"\;'>US Bank\, Pam Richardson</span></span></span></p>\n\n<p style="margin: 0in 0in 0pt\; line-height: normal\;"><span style="font-size: 14px\;"><span style="font-family: arial\;"><span style='color: black\; mso-ascii-font-family: Calibri\; mso-fareast-font-family: "Times New Roman"\; mso-hansi-font-family: Calibri\; mso-bidi-font-family: "Times New Roman"\;'>US Bank\, Paula Leavitt</span></span></span></p>\n\n<p style="margin: 0in 0in 0pt\; line-height: normal\;"><span style="font-size: 14px\;"><span style="font-family: arial\;"><span style='color: black\; mso-ascii-font-family: Calibri\; mso-fareast-font-family: "Times New Roman"\; mso-hansi-font-family: Calibri\; mso-bidi-font-family: "Times New Roman"\;'>Land Home Financial Services\, Carol Pope</span></span></span></p>\n\n<p style="margin: 0in 0in 0pt\; line-height: normal\;"><span style="font-size: 14px\;"><span style="font-family: arial\;"><span style='color: black\; mso-ascii-font-family: Calibri\; mso-fareast-font-family: "Times New Roman"\; mso-hansi-font-family: Calibri\; mso-bidi-font-family: "Times New Roman"\;'>Pierce County Council\, Derek Young</span></span></span></p>\n\n<p style="margin: 0in 0in 0pt\; line-height: normal\;"><span style="font-size: 14px\;"><span style="font-family: arial\;"><span style='color: black\; mso-ascii-font-family: Calibri\; mso-fareast-font-family: "Times New Roman"\; mso-hansi-font-family: Calibri\; mso-bidi-font-family: "Times New Roman"\;'>City of Bonney Lake\, Jenn Francis</span></span></span></p>\n\n<p style="margin: 0in 0in 0pt\; line-height: normal\;"><span style="font-size: 14px\;"><span style="font-family: arial\;"><span style='color: black\; mso-ascii-font-family: Calibri\; mso-fareast-font-family: "Times New Roman"\; mso-hansi-font-family: Calibri\; mso-bidi-font-family: "Times New Roman"\;'>City of Sumner\, Eric Mendenhall</span></span></span></p>\n\n<p style="margin: 0in 0in 0pt\; line-height: normal\;"><span style="font-size: 14px\;"><span style="font-family: arial\;"><span style='color: black\; mso-ascii-font-family: Calibri\; mso-fareast-font-family: "Times New Roman"\; mso-hansi-font-family: Calibri\; mso-bidi-font-family: "Times New Roman"\;'>City of Bonney Lake\, John Vodopich</span></span></span></p>\n\n<p style="margin: 0in 0in 0pt\; line-height: normal\;"><span style="font-size: 14px\;"><span style="font-family: arial\;"><span style='color: black\; mso-ascii-font-family: Calibri\; mso-fareast-font-family: "Times New Roman"\; mso-hansi-font-family: Calibri\; mso-bidi-font-family: "Times New Roman"\;'>BIAW\, Jan Himebaugh</span></span></span></p>\n\n<p style="margin: 0in 0in 0pt\; line-height: normal\;"><span style="font-size: 14px\;"><span style="font-family: arial\;"><span style='color: black\; mso-ascii-font-family: Calibri\; mso-fareast-font-family: "Times New Roman"\; mso-hansi-font-family: Calibri\; mso-bidi-font-family: "Times New Roman"\;'>City of Milton\, Dana Herron</span></span></span></p>\n\n<p style="margin: 0in 0in 0pt\; line-height: normal\;"><span style="font-size: 14px\;"><span style="font-family: arial\;"><span style='color: black\; mso-ascii-font-family: Calibri\; mso-fareast-font-family: "Times New Roman"\; mso-hansi-font-family: Calibri\; mso-bidi-font-family: "Times New Roman"\;'>US Bank\, Brian Michael</span></span></span></p>\n\n<p style="margin: 0in 0in 0pt\; line-height: normal\;"><span style="font-size: 14px\;"><span style="font-family: arial\;"><span style='color: black\; mso-ascii-font-family: Calibri\; mso-fareast-font-family: "Times New Roman"\; mso-hansi-font-family: Calibri\; mso-bidi-font-family: "Times New Roman"\;'>Washington State Legislature\, Cinthia Illan Vazquez</span></span></span></p>\n\n<p style="margin: 0in 0in 0pt\; line-height: normal\;"><span style="font-size: 14px\;"><span style="font-family: arial\;"><span style='color: black\; mso-ascii-font-family: Calibri\; mso-fareast-font-family: "Times New Roman"\; mso-hansi-font-family: Calibri\; mso-bidi-font-family: "Times New Roman"\;'>Washington State Senate\, Senator Pam Roach</span></span></span></p>\n\n<p style="margin: 0in 0in 0pt\; line-height: normal\;"><span style="font-size: 14px\;"><span style="font-family: arial\;"><span style='color: black\; mso-ascii-font-family: Calibri\; mso-fareast-font-family: "Times New Roman"\; mso-hansi-font-family: Calibri\; mso-bidi-font-family: "Times New Roman"\;'>Corliss Homes\, Inc.\, DeAnna Franklin</span></span></span></p>\n\n<p style="margin: 0in 0in 0pt\; line-height: normal\;"><span style="font-size: 14px\;"><span style="font-family: arial\;"><span style='color: black\; mso-ascii-font-family: Calibri\; mso-fareast-font-family: "Times New Roman"\; mso-hansi-font-family: Calibri\; mso-bidi-font-family: "Times New Roman"\;'>Corliss Homes\, Inc.\, Eric Corliss</span></span></span></p>\n\n<p style="margin: 0in 0in 0pt\; line-height: normal\;"><span style="font-size: 14px\;"><span style="font-family: arial\;"><span style='color: black\; mso-ascii-font-family: Calibri\; mso-fareast-font-family: "Times New Roman"\; mso-hansi-font-family: Calibri\; mso-bidi-font-family: "Times New Roman"\;'>Corliss Homes\, Inc.\, Kristian Franklin</span></span></span></p>\n\n<p style="margin: 0in 0in 0pt\; line-height: normal\;"><span style="font-size: 14px\;"><span style="font-family: arial\;"><span style='color: black\; mso-ascii-font-family: Calibri\; mso-fareast-font-family: "Times New Roman"\; mso-hansi-font-family: Calibri\; mso-bidi-font-family: "Times New Roman"\;'>City of Bonney Lake\, Randy McKibbin</span><br>\n<span style='color: black\; line-height: 107%\; mso-fareast-font-family: "Times New Roman"\; mso-bidi-font-family: "Times New Roman"\; mso-ansi-language: EN-US\; mso-fareast-language: EN-US\; mso-bidi-language: AR-SA\;'><span style='color: black\; line-height: 107%\; mso-fareast-font-family: "Times New Roman"\; mso-bidi-font-family: "Times New Roman"\; mso-ansi-language: EN-US\; mso-fareast-language: EN-US\; mso-bidi-language: AR-SA\;'>City of Bonney Lake\, Katrina Minton-Davis</span></span><br>\n<font color="#000000">Pierce County\, Dennis Hanberg</font></span><br>\n<span style="font-family: arial\;"><font color="#000000">Pierce County\, Melanie Halsan</font><br>\nTacoma-Pierce County Association of Realtors\, Catherine Rudolph<br>\nSager Family Homes\, Ali Koch<br>\nMBA&nbsp\;of King &amp\; Snohomish Counties\, David Hoffman<br>\nMBA of King &amp\; Snohomish Counties\, Allison Butcher<br>\nCity of Puyallup\, Tom Utterback<br>\nWashington State Senate\, Senator Bruce Dammeier</span></span></p>\n\n<p style="margin: 0in 0in 0pt\; line-height: normal\;"><span style="font-size: 14px\;"><span style="font-family: arial\;">&#8203\;City of Tacoma\, Sue Coffman</span></span></p>\n\n<p style="margin: 0in 0in 0pt\; line-height: normal\;"><span style="font-size: 14px\;"><span style="font-family: arial\;">26th Legislative District\, Representative Michelle Caldier</span></span></p>\n\n<p style="margin: 0in 0in 0pt\; line-height: normal\;"><span style="font-size: 14px\;"><span style="font-family: arial\;">26th Legislative District\, Representative Jesse Young</span></span></p>\n\n<p style="margin: 0in 0in 0pt\; line-height: normal\;"><span style="font-size: 14px\;"><span style="font-family: arial\;">2nd Legislative District\, Representative Andrew Barkis</span></span></p>\n\n<p style="margin: 0in 0in 0pt\; line-height: normal\;"><span style="font-size: 14px\;"><span style="font-family: arial\;">AHBL\, Inc.\, Sean Comfort</span></span></p>\n\n<p style="margin: 0in 0in 0pt\; line-height: normal\;"><span style="font-size: 14px\;"><span style="font-family: arial\;">City of Tacoma\, Sue Coffman</span></span><br>\n<span style="font-size: 14px\;"><span style="font-family: arial\;">Chicago Title Company\, Denise Sokol</span></span></p>\n\n<p style="margin: 0in 0in 0pt\; line-height: normal\;"><span style="font-size: 14px\;"><span style="font-family: arial\;">Pierce County Council\, Jim McCune</span></span></p>\n\n<p style="margin: 0in 0in 0pt\; line-height: normal\;"><span style="font-size: 14px\;"><span style="font-family: arial\;">Pierce County Council Assistant\, Amy Cruver</span></span></p>\n\n<p style="margin: 0in 0in 0pt\; line-height: normal\;"><span style="font-size: 14px\;"><span style="font-family: arial\;">City of University Place\, Mariza Craig</span></span></p>\n\n<p style="margin: 0in 0in 0pt\; line-height: normal\;"><span style="font-size: 14px\;"><span style="font-family: arial\;">City of University Place\, Mayor Javier Figueroa</span></span></p>\n\n<p style="margin: 0in 0in 0pt\; line-height: normal\;"><span style="font-size: 14px\;"><span style="font-family: arial\;">Pierce County Council\, Joyce McDonald&#8203\;&#8203\;</span></span></p>\n\n<p style="margin: 0in 0in 0pt\; line-height: normal\;"><span style="font-size: 14px\;"><span style="font-family: arial\;">Pierce County Council\, Rick Talbert</span></span></p>\n\n<p style="margin: 0in 0in 0pt\; line-height: normal\;">&nbsp\;</p>\n
LOCATION:Pioneer Park Pavilion 330 S. Meridian Puyallup\, WA 98371
UID:e.9280.243
SEQUENCE:3
DTSTAMP:20260423T040512Z
URL:https://members.masterbuilderspierce.com/events/details/2016-housing-forum-05-04-2016-243
END:VEVENT

END:VCALENDAR
