BEGIN:VCALENDAR
VERSION:2.0
PRODID:-//ChamberMaster//Event Calendar 2.0//EN
METHOD:PUBLISH
X-PUBLISHED-TTL:P3D
REFRESH-INTERVAL:P3D
CALSCALE:GREGORIAN
BEGIN:VEVENT
DTSTART:20160204T233000Z
DTEND:20160205T003000Z
X-MICROSOFT-CDO-ALLDAYEVENT:FALSE
SUMMARY:2016 Golf Classic Committee Meeting - February
DESCRIPTION:2016 Golf Tournament Committee
X-ALT-DESC;FMTTYPE=text/html:2016 Golf Tournament Committee
LOCATION:3rd floor CW Title Conf Room 1002 39th Ave SW Puyallup\, WA 98373
UID:e.9280.106
SEQUENCE:3
DTSTAMP:20260423T083931Z
URL:https://members.masterbuilderspierce.com/events/details/2016-golf-classic-committee-meeting-february-106
END:VEVENT

END:VCALENDAR
