BEGIN:VCALENDAR
VERSION:2.0
PRODID:-//ChamberMaster//Event Calendar 2.0//EN
METHOD:PUBLISH
X-PUBLISHED-TTL:P3D
REFRESH-INTERVAL:P3D
CALSCALE:GREGORIAN
BEGIN:VEVENT
DTSTART;VALUE=DATE:20160610
DTEND;VALUE=DATE:20160611
TRANSP:TRANSPARENT
X-MICROSOFT-CDO-ALLDAYEVENT:TRUE
SUMMARY:2016 Golf Classic
DESCRIPTION:Join us for the 2016 Annual Golf Classic on June 10th\, 2016 at Lipoma Firs Golf Course. Registration begins at 8:00 a.m\, 9:30 a.m. Shotgun Start.Registration includes Breakfast / Lunch / Dinner\, Cart Rental\, Drink Ticket\, Green Fees\, and a Gift Bag. Sponsors will provide games\, freebies\, beverages and snacks. Sign up early to reserve your spot. Only 36 team spots available and only four (4) golfers per team. Space is limited\, no more than four (4) teams per company\, one team per registration form. Individuals may register and will be assigned to a team. Don't forget to include shirt sizes! Don't wait\, spaces fill up fast\, complete below and mail or email to the MBA Office | ktaylor@mbapierce.com\n\n \n\n	\n		\n			Name\n			Company\n		\n		\n			Budd Brumbaugh\n			Metrostudy Inc\n		\n		\n			Todd Britsch\n			Metrostudy Inc\n		\n		\n			Jeff Todhunter\n			Homestreet Bank\n		\n		\n			Ryan McGowan\n			RM Homes\n		\n		\n			Jeff Zacher\n			JET Millwork Installations LLC\n		\n		\n			Adam Kemp\n			JET Millwork Installations LLC\n		\n		\n			Brent Cutrell\n			JET Millwork Installations LLC\n		\n		\n			Ron Johnson\n			JET Millwork Installations LLC\n		\n		\n			Ryan Bittenbender\n			Cornerstone Specialties LLC\n		\n		\n			Mark Queen\n			Cornerstone Specialties LLC\n		\n		\n			Bob Reynolds\n			Cornerstone Specialties LLC\n		\n		\n			Mitch Eddy\n			Cornerstone Specialties LLC\n		\n		\n			Kent Arola\n			Wind River Homes\n		\n		\n			Joe Zehnder\n			McGavick\n		\n		\n			Mike Hayes\n			Wind River Homes\n		\n		\n			Darrell Farrwell\n			Wind River Homes\n		\n		\n			Ed Buffington\n			CW Title and Escrow\n		\n		\n			Chuck Betz\n			CW Title and Escrow\n		\n		\n			Mark Thompson\n			CW Title and Escrow\n		\n		\n			Matt Kuzmick\n			CW Title and Escrow\n		\n		\n			Paul Green\n			Azure Green Consultants\, LLC\n		\n		\n			Jim Job\n			Azure Green Consultants\, LLC\n		\n		\n			Rob Trivitt\n			Azure Green Consultants\, LLC\n		\n		\n			Trevor Green\n			Azure Green Consultants\, LLC
X-ALT-DESC;FMTTYPE=text/html:<span style="color: rgb(51\, 51\, 51)\; font-family: sans-serif\, Arial\, Verdana\, 'Trebuchet MS'\; font-size: 13px\; line-height: 20.8px\; background-color: rgb(255\, 255\, 255)\;">Join us for the 2016 Annual Golf Classic on June&nbsp\;</span>10th<span style="color: rgb(51\, 51\, 51)\; font-family: sans-serif\, Arial\, Verdana\, 'Trebuchet MS'\; font-size: 13px\; line-height: 20.8px\; background-color: rgb(255\, 255\, 255)\;">\, 2016 at&nbsp\;</span>Lipoma<span style="color: rgb(51\, 51\, 51)\; font-family: sans-serif\, Arial\, Verdana\, 'Trebuchet MS'\; font-size: 13px\; line-height: 20.8px\; background-color: rgb(255\, 255\, 255)\;">&nbsp\;Firs Golf Course.&nbsp\;</span>Registration begins at 8:00 a.m\, 9:30 a.m. Shotgun Start.Registration includes Breakfast / Lunch / Dinner\, Cart Rental\, Drink Ticket\, Green Fees\, and a Gift Bag. Sponsors will provide games\, freebies\, beverages and snacks. Sign up early to reserve your spot. Only 36 team spots available and only four (4) golfers per team. Space is limited\, no more than four (4) teams per company\, one team per registration form. Individuals may register and will be assigned to a team. Don&rsquo\;t forget to include shirt sizes! Don&rsquo\;t wait\, spaces fill up fast\, complete below and mail or email to the MBA Office | ktaylor@mbapierce.com<br />\n&nbsp\;\n<table border="0" cellpadding="0" cellspacing="0" style="width:378px\;margin-left:5.4pt\;border-collapse:collapse\;" width="378">\n	<tbody>\n		<tr style="height:20px\;">\n			<td nowrap="nowrap" style="width:156px\;padding:0in 5.4pt 0in 5.4pt\;height:20px\;vertical-align:bottom\;"><span style="color:black\;">Name</span></td>\n			<td nowrap="nowrap" style="width:222px\;padding:0in 5.4pt 0in 5.4pt\;height:20px\;vertical-align:bottom\;"><span style="color:black\;">Company</span></td>\n		</tr>\n		<tr style="height:20px\;">\n			<td nowrap="nowrap" style="width:156px\;padding:0in 5.4pt 0in 5.4pt\;height:20px\;vertical-align:bottom\;"><span style="color:black\;">Budd Brumbaugh</span></td>\n			<td nowrap="nowrap" style="width:222px\;padding:0in 5.4pt 0in 5.4pt\;height:20px\;vertical-align:bottom\;"><span style="color:black\;">Metrostudy Inc</span></td>\n		</tr>\n		<tr style="height:20px\;">\n			<td nowrap="nowrap" style="width:156px\;padding:0in 5.4pt 0in 5.4pt\;height:20px\;vertical-align:bottom\;"><span style="color:black\;">Todd Britsch</span></td>\n			<td nowrap="nowrap" style="width:222px\;padding:0in 5.4pt 0in 5.4pt\;height:20px\;vertical-align:bottom\;"><span style="color:black\;">Metrostudy Inc</span></td>\n		</tr>\n		<tr style="height:20px\;">\n			<td nowrap="nowrap" style="width:156px\;padding:0in 5.4pt 0in 5.4pt\;height:20px\;vertical-align:bottom\;"><span style="color:black\;">Jeff Todhunter</span></td>\n			<td nowrap="nowrap" style="width:222px\;padding:0in 5.4pt 0in 5.4pt\;height:20px\;vertical-align:bottom\;"><span style="color:black\;">Homestreet Bank</span></td>\n		</tr>\n		<tr style="height:20px\;">\n			<td nowrap="nowrap" style="width:156px\;padding:0in 5.4pt 0in 5.4pt\;height:20px\;vertical-align:bottom\;"><span style="color:black\;">Ryan McGowan</span></td>\n			<td nowrap="nowrap" style="width:222px\;padding:0in 5.4pt 0in 5.4pt\;height:20px\;vertical-align:bottom\;"><span style="color:black\;">RM Homes</span></td>\n		</tr>\n		<tr style="height:20px\;">\n			<td nowrap="nowrap" style="width:156px\;padding:0in 5.4pt 0in 5.4pt\;height:20px\;vertical-align:bottom\;"><span style="color:black\;">Jeff Zacher</span></td>\n			<td nowrap="nowrap" style="width:222px\;padding:0in 5.4pt 0in 5.4pt\;height:20px\;vertical-align:bottom\;"><span style="color:black\;">JET Millwork Installations LLC</span></td>\n		</tr>\n		<tr style="height:20px\;">\n			<td nowrap="nowrap" style="width:156px\;padding:0in 5.4pt 0in 5.4pt\;height:20px\;vertical-align:bottom\;"><span style="color:black\;">Adam Kemp</span></td>\n			<td nowrap="nowrap" style="width:222px\;padding:0in 5.4pt 0in 5.4pt\;height:20px\;vertical-align:bottom\;"><span style="color:black\;">JET Millwork Installations LLC</span></td>\n		</tr>\n		<tr style="height:20px\;">\n			<td nowrap="nowrap" style="width:156px\;padding:0in 5.4pt 0in 5.4pt\;height:20px\;vertical-align:bottom\;"><span style="color:black\;">Brent Cutrell</span></td>\n			<td nowrap="nowrap" style="width:222px\;padding:0in 5.4pt 0in 5.4pt\;height:20px\;vertical-align:bottom\;"><span style="color:black\;">JET Millwork Installations LLC</span></td>\n		</tr>\n		<tr style="height:20px\;">\n			<td nowrap="nowrap" style="width:156px\;padding:0in 5.4pt 0in 5.4pt\;height:20px\;vertical-align:bottom\;"><span style="color:black\;">Ron Johnson</span></td>\n			<td nowrap="nowrap" style="width:222px\;padding:0in 5.4pt 0in 5.4pt\;height:20px\;vertical-align:bottom\;"><span style="color:black\;">JET Millwork Installations LLC</span></td>\n		</tr>\n		<tr style="height:20px\;">\n			<td nowrap="nowrap" style="width:156px\;padding:0in 5.4pt 0in 5.4pt\;height:20px\;vertical-align:bottom\;"><span style="color:black\;">Ryan Bittenbender</span></td>\n			<td nowrap="nowrap" style="width:222px\;padding:0in 5.4pt 0in 5.4pt\;height:20px\;vertical-align:bottom\;"><span style="color:black\;">Cornerstone Specialties LLC</span></td>\n		</tr>\n		<tr style="height:20px\;">\n			<td nowrap="nowrap" style="width:156px\;padding:0in 5.4pt 0in 5.4pt\;height:20px\;vertical-align:bottom\;"><span style="color:black\;">Mark Queen</span></td>\n			<td nowrap="nowrap" style="width:222px\;padding:0in 5.4pt 0in 5.4pt\;height:20px\;vertical-align:bottom\;"><span style="color:black\;">Cornerstone Specialties LLC</span></td>\n		</tr>\n		<tr style="height:20px\;">\n			<td nowrap="nowrap" style="width:156px\;padding:0in 5.4pt 0in 5.4pt\;height:20px\;vertical-align:bottom\;"><span style="color:black\;">Bob Reynolds</span></td>\n			<td nowrap="nowrap" style="width:222px\;padding:0in 5.4pt 0in 5.4pt\;height:20px\;vertical-align:bottom\;"><span style="color:black\;">Cornerstone Specialties LLC</span></td>\n		</tr>\n		<tr style="height:20px\;">\n			<td nowrap="nowrap" style="width:156px\;padding:0in 5.4pt 0in 5.4pt\;height:20px\;vertical-align:bottom\;"><span style="color:black\;">Mitch Eddy</span></td>\n			<td nowrap="nowrap" style="width:222px\;padding:0in 5.4pt 0in 5.4pt\;height:20px\;vertical-align:bottom\;"><span style="color:black\;">Cornerstone Specialties LLC</span></td>\n		</tr>\n		<tr style="height:20px\;">\n			<td nowrap="nowrap" style="width:156px\;padding:0in 5.4pt 0in 5.4pt\;height:20px\;vertical-align:bottom\;"><span style="color:black\;">Kent Arola</span></td>\n			<td nowrap="nowrap" style="width:222px\;padding:0in 5.4pt 0in 5.4pt\;height:20px\;vertical-align:bottom\;"><span style="color:black\;">Wind River Homes</span></td>\n		</tr>\n		<tr style="height:20px\;">\n			<td nowrap="nowrap" style="width:156px\;padding:0in 5.4pt 0in 5.4pt\;height:20px\;vertical-align:bottom\;"><span style="color:black\;">Joe Zehnder</span></td>\n			<td nowrap="nowrap" style="width:222px\;padding:0in 5.4pt 0in 5.4pt\;height:20px\;vertical-align:bottom\;"><span style="color:black\;">McGavick</span></td>\n		</tr>\n		<tr style="height:20px\;">\n			<td nowrap="nowrap" style="width:156px\;padding:0in 5.4pt 0in 5.4pt\;height:20px\;vertical-align:bottom\;"><span style="color:black\;">Mike Hayes</span></td>\n			<td nowrap="nowrap" style="width:222px\;padding:0in 5.4pt 0in 5.4pt\;height:20px\;vertical-align:bottom\;"><span style="color:black\;">Wind River Homes</span></td>\n		</tr>\n		<tr style="height:20px\;">\n			<td nowrap="nowrap" style="width:156px\;padding:0in 5.4pt 0in 5.4pt\;height:20px\;vertical-align:bottom\;"><span style="color:black\;">Darrell Farrwell</span></td>\n			<td nowrap="nowrap" style="width:222px\;padding:0in 5.4pt 0in 5.4pt\;height:20px\;vertical-align:bottom\;"><span style="color:black\;">Wind River Homes</span></td>\n		</tr>\n		<tr style="height:20px\;">\n			<td nowrap="nowrap" style="width:156px\;padding:0in 5.4pt 0in 5.4pt\;height:20px\;vertical-align:bottom\;"><span style="color:black\;">Ed Buffington</span></td>\n			<td nowrap="nowrap" style="width:222px\;padding:0in 5.4pt 0in 5.4pt\;height:20px\;vertical-align:bottom\;"><span style="color:black\;">CW Title and Escrow</span></td>\n		</tr>\n		<tr style="height:20px\;">\n			<td nowrap="nowrap" style="width:156px\;padding:0in 5.4pt 0in 5.4pt\;height:20px\;vertical-align:bottom\;"><span style="color:black\;">Chuck Betz</span></td>\n			<td nowrap="nowrap" style="width:222px\;padding:0in 5.4pt 0in 5.4pt\;height:20px\;vertical-align:bottom\;"><span style="color:black\;">CW Title and Escrow</span></td>\n		</tr>\n		<tr style="height:20px\;">\n			<td nowrap="nowrap" style="width:156px\;padding:0in 5.4pt 0in 5.4pt\;height:20px\;vertical-align:bottom\;"><span style="color:black\;">Mark Thompson</span></td>\n			<td nowrap="nowrap" style="width:222px\;padding:0in 5.4pt 0in 5.4pt\;height:20px\;vertical-align:bottom\;"><span style="color:black\;">CW Title and Escrow</span></td>\n		</tr>\n		<tr style="height:20px\;">\n			<td nowrap="nowrap" style="width:156px\;padding:0in 5.4pt 0in 5.4pt\;height:20px\;vertical-align:bottom\;"><span style="color:black\;">Matt Kuzmick</span></td>\n			<td nowrap="nowrap" style="width:222px\;padding:0in 5.4pt 0in 5.4pt\;height:20px\;vertical-align:bottom\;"><span style="color:black\;">CW Title and Escrow</span></td>\n		</tr>\n		<tr style="height:20px\;">\n			<td nowrap="nowrap" style="width:156px\;padding:0in 5.4pt 0in 5.4pt\;height:20px\;vertical-align:bottom\;"><span style="color:black\;">Paul Green</span></td>\n			<td nowrap="nowrap" style="width:222px\;padding:0in 5.4pt 0in 5.4pt\;height:20px\;vertical-align:bottom\;"><span style="color:black\;">Azure Green Consultants\, LLC</span></td>\n		</tr>\n		<tr style="height:20px\;">\n			<td nowrap="nowrap" style="width:156px\;padding:0in 5.4pt 0in 5.4pt\;height:20px\;vertical-align:bottom\;"><span style="color:black\;">Jim Job</span></td>\n			<td nowrap="nowrap" style="width:222px\;padding:0in 5.4pt 0in 5.4pt\;height:20px\;vertical-align:bottom\;"><span style="color:black\;">Azure Green Consultants\, LLC</span></td>\n		</tr>\n		<tr style="height:20px\;">\n			<td nowrap="nowrap" style="width:156px\;padding:0in 5.4pt 0in 5.4pt\;height:20px\;vertical-align:bottom\;"><span style="color:black\;">Rob Trivitt</span></td>\n			<td nowrap="nowrap" style="width:222px\;padding:0in 5.4pt 0in 5.4pt\;height:20px\;vertical-align:bottom\;"><span style="color:black\;">Azure Green Consultants\, LLC</span></td>\n		</tr>\n		<tr style="height:20px\;">\n			<td nowrap="nowrap" style="width:156px\;padding:0in 5.4pt 0in 5.4pt\;height:20px\;vertical-align:bottom\;"><span style="color:black\;">Trevor Green</span></td>\n			<td nowrap="nowrap" style="width:222px\;padding:0in 5.4pt 0in 5.4pt\;height:20px\;vertical-align:bottom\;"><span style="color:black\;">Azure Green Consultants\, LLC</span></td>\n		</tr>\n	</tbody>\n</table>\n
LOCATION:Lipoma Firs Golf Course 10410 187th Street East Puyallup\, WA 98374
UID:e.9280.107
SEQUENCE:3
DTSTAMP:20260423T023044Z
URL:https://members.masterbuilderspierce.com/events/details/2016-golf-classic-06-10-2016-107
END:VEVENT

END:VCALENDAR
