BEGIN:VCALENDAR
VERSION:2.0
PRODID:-//ChamberMaster//Event Calendar 2.0//EN
METHOD:PUBLISH
X-PUBLISHED-TTL:P3D
REFRESH-INTERVAL:P3D
CALSCALE:GREGORIAN
BEGIN:VEVENT
DTSTART:20160921T003000Z
DTEND:20160921T023000Z
X-MICROSOFT-CDO-ALLDAYEVENT:FALSE
SUMMARY:2016 General Membership - September Meeting at the Pine Room Tacoma
DESCRIPTION:Join MBA Pierce as we start up our Fall schedule of events with a General Membership Meeting featuring a very special speaker at the newly remodeled Pine Room Tacoma. In honor of our Associate members and National Associate Appreciation month\, all Associate Members receive a discount of $10 off the ticket price.  \n\n\n\nYou saw Matthew 'Griff' Griffin on ABC's "Shark Tank\," now come see him in person. MBA Pierce is bringing you the chance to come hear Griffin\, CEO and owner of Issaquah-based Combat Flip Flops\, who was recently featured on "Shark Tank" where he negotiated a $300\,000 investment deal.\n\n\n\nRegister before September 15 at 5:00 pm to get the Early Registration discount of $5. \n\n\n\nPresented by\n\nNational Purchasing Partners
X-ALT-DESC;FMTTYPE=text/html:Join MBA Pierce as we start up our Fall schedule of events with a General Membership Meeting featuring a very special speaker at the newly remodeled Pine Room Tacoma. In honor of our Associate members and National Associate Appreciation month\, all Associate Members receive a discount of $10 off the ticket price. &nbsp\;<br />\n<br />\nYou saw Matthew &#39\;Griff&#39\; Griffin on ABC&#39\;s &quot\;Shark Tank\,&quot\; now come see him in person. MBA Pierce is bringing you the chance to come hear Griffin\, CEO and owner of Issaquah-based Combat Flip Flops\, who was recently featured on &quot\;Shark Tank&quot\; where he negotiated a $300\,000 investment deal.<br />\n<br />\n<strong>Register before September 15 at 5:00 pm to get the Early Registration discount of $5.&nbsp\;</strong><br />\n<br />\nPresented by<br />\n<strong>National Purchasing Partners</strong>
LOCATION:The Pine Room Tacoma 2811 6th Avenue Tacoma\, WA 98406
UID:e.9280.1381
SEQUENCE:3
DTSTAMP:20260422T215947Z
URL:https://members.masterbuilderspierce.com/events/details/2016-general-membership-september-meeting-at-the-pine-room-tacoma-1381
END:VEVENT

END:VCALENDAR
