BEGIN:VCALENDAR
VERSION:2.0
PRODID:-//ChamberMaster//Event Calendar 2.0//EN
METHOD:PUBLISH
X-PUBLISHED-TTL:P3D
REFRESH-INTERVAL:P3D
CALSCALE:GREGORIAN
BEGIN:VEVENT
DTSTART:20161019T003000Z
DTEND:20161019T023000Z
X-MICROSOFT-CDO-ALLDAYEVENT:FALSE
SUMMARY:2016 General Membership Meeting - October MBA Pierce Annual Meeting
DESCRIPTION:MBA Pierce Annual Meeting\n\n\n\nYou are invited to attend the MBA Pierce Annual meeting with special guests Doug Richardson and Pam Roach\, candidates for Pierce County Council. This is also the last opportunity for members to be nominated for the MBA Pierce 2017 Board of Directors.
X-ALT-DESC;FMTTYPE=text/html:MBA Pierce Annual Meeting<br />\n<br />\nYou are invited to attend the MBA Pierce Annual meeting with special guests Doug Richardson and Pam Roach\, candidates for Pierce County Council. This is also the last opportunity for members to be nominated for the MBA Pierce 2017 Board of Directors.&nbsp\;
LOCATION:Great American Casino-Lakewood 10117 South Tacoma Way Tacoma\, WA 98499
UID:e.9280.1385
SEQUENCE:3
DTSTAMP:20260422T215755Z
URL:https://members.masterbuilderspierce.com/events/details/2016-general-membership-meeting-october-mba-pierce-annual-meeting-1385
END:VEVENT

END:VCALENDAR
