BEGIN:VCALENDAR
VERSION:2.0
PRODID:-//ChamberMaster//Event Calendar 2.0//EN
METHOD:PUBLISH
X-PUBLISHED-TTL:P3D
REFRESH-INTERVAL:P3D
CALSCALE:GREGORIAN
BEGIN:VEVENT
DTSTART:20160316T003000Z
DTEND:20160316T023000Z
X-MICROSOFT-CDO-ALLDAYEVENT:FALSE
SUMMARY:2016 General Membership Meeting - March at Great American Casino in Lakewood
DESCRIPTION:Join us at the Great American Casino in Lakewood for the first General Membership Meeting of 2016! Activities for the evening include time for networking\, dinner and several special guest speakers including:\n\n	Jeremy Bright of BIAW Health Trust ensuring you have the right tools for your health insurance benefits\n	Dennis Gregory of Associated Petroleum Products talking about APP's Group Fuel Program\, designed to get you CASH back on your fuel purchases\n	Barry Fuchs of GRIP/Approach Management Services talking about the MBAs' Retro program and upcoming enrollment information and\n	Fred Thompson of Cascade Cabinetry and the 2016 Membership Committee Chair presenting exciting information about an exciting NEW program available to members - MBA Pierce members will be getting the first look at this potentially HUGE new benefit!\n\nEvent Sponsored by: Lakewood Ford\n\n\n\nRSVP now\, you don't want to miss this meeting!
X-ALT-DESC;FMTTYPE=text/html:Join us at the Great American Casino in Lakewood for the first General Membership Meeting of 2016! Activities for the evening include time for networking\, dinner and several special guest speakers including:\n<ul>\n	<li>Jeremy Bright of BIAW Health Trust ensuring you have the right tools for your health insurance benefits</li>\n	<li>Dennis Gregory of Associated Petroleum Products talking about APP&#39\;s Group Fuel Program\, designed to get you CASH back on your fuel purchases</li>\n	<li>Barry Fuchs of GRIP/Approach Management Services talking about the MBAs&#39\; Retro program and upcoming enrollment information and</li>\n	<li>Fred Thompson of Cascade Cabinetry and the 2016 Membership Committee Chair presenting exciting information about an exciting NEW program available to members - MBA Pierce members will be getting the first look at this potentially HUGE new benefit!</li>\n</ul>\n<em>Event Sponsored by: Lakewood Ford</em><br />\n<br />\n<strong>RSVP now\, you don&#39\;t want to miss this meeting!</strong>&nbsp\;
LOCATION:Great American Casino Lakewood 10117 South Tacoma Way Lakewood\, WA 98499
UID:e.9280.98
SEQUENCE:3
DTSTAMP:20260423T070554Z
URL:https://members.masterbuilderspierce.com/events/details/2016-general-membership-meeting-march-at-great-american-casino-in-lakewood-98
END:VEVENT

END:VCALENDAR
