BEGIN:VCALENDAR
VERSION:2.0
PRODID:-//ChamberMaster//Event Calendar 2.0//EN
METHOD:PUBLISH
X-PUBLISHED-TTL:P3D
REFRESH-INTERVAL:P3D
CALSCALE:GREGORIAN
BEGIN:VEVENT
DTSTART:20161202T010000Z
DTEND:20161202T030000Z
X-MICROSOFT-CDO-ALLDAYEVENT:FALSE
SUMMARY:2016 Elected Officials Reception presented by Newland Communities
DESCRIPTION:2016 MBA of Pierce County Elected Officials Reception presented by Newland Communities\n\n\n\nThe Master Builders Association of Pierce County (MBAPC) is proud to host an evening reception for association members and leadership to meet with city\, county and state elected officials from throughout Pierce County who will be serving in office in 2017.\n\n \n\nComplimentary catered hors d'oeuvres and refreshments.
X-ALT-DESC;FMTTYPE=text/html:<span style="font-style: italic\; font-weight: bold\; language: en-US\;"><span style="font-size: 14pt\;"><span style="font-family: adelon-light\;"><span style="color: rgb(255\, 0\, 0)\;">2016 MBA of Pierce County Elected Officials Reception presented by Newland Communities</span><br />\n<br />\n<span style="font-size: 18px\;"><span style="color: black\;">The Master Builders Association of Pierce County (</span></span></span></span></span><span style="font-size: 18px\;"><span style="font-style: italic\; font-weight: bold\; language: en-US\;"><span style="font-family: adelon-light\;"><span style="color: black\;">MBA</span></span></span><span style="font-style: italic\; font-weight: bold\; language: en-US\;"><span style="font-family: adelon-light\;"><span style="color: black\;">PC</span></span></span><span style="font-style: italic\; font-weight: bold\; language: en-US\;"><span style="font-family: adelon-light\;"><span style="color: black\;">) is proud to host an</span></span></span> <span style="font-style: italic\; font-weight: bold\; language: en-US\;"><span style="font-family: adelon-light\;"><span style="color: black\;">evening reception for </span></span></span><span style="font-style: italic\; font-weight: bold\; language: en-US\;"><span style="font-family: adelon-light\;"><span style="color: black\;">association</span></span></span><span style="font-style: italic\; font-weight: bold\; language: en-US\;"><span style="font-family: adelon-light\;"><span style="color: black\;"> members and leadership to meet with city\, county and state elected officials</span></span></span> <span style="font-style: italic\; font-weight: bold\; language: en-US\;"><span style="font-family: adelon-light\;"><span style="color: black\;">from throughout Pierce County</span></span></span><span style="font-style: italic\; font-weight: bold\; language: en-US\;"><span style="font-family: adelon-light\;"><span style="color: black\;"> who will be serving in office in 2017.</span></span></span><br />\n&nbsp\;<br />\n<span style="font-style: italic\; font-weight: bold\; language: en-US\;"><span style="font-family: adelon-light\;"><span style="color: black\;">Complimentary catered hors d&rsquo\;oeuvres and refreshments</span></span></span><span style="font-weight: bold\; language: en-US\;"><span style="font-family: adelon-light\;"><span style="color: black\;">.</span></span></span></span><br />\n&nbsp\;<br />\n&nbsp\;
LOCATION:MBA Pierce 1120 Pacific Ave\, Suite #301 Tacoma\, WA 98402
UID:e.9280.1512
SEQUENCE:3
DTSTAMP:20260422T172635Z
URL:https://members.masterbuilderspierce.com/events/details/2016-elected-officials-reception-presented-by-newland-communities-1512
END:VEVENT

END:VCALENDAR
