BEGIN:VCALENDAR
VERSION:2.0
PRODID:-//ChamberMaster//Event Calendar 2.0//EN
METHOD:PUBLISH
X-PUBLISHED-TTL:P3D
REFRESH-INTERVAL:P3D
CALSCALE:GREGORIAN
BEGIN:VEVENT
DTSTART:20160311T013000Z
DTEND:20160311T033000Z
X-MICROSOFT-CDO-ALLDAYEVENT:FALSE
SUMMARY:2016 Design Professionals Council Meeting - March Paul Fritts & Co
DESCRIPTION:Since the founding of the company in 1979\, Paul Fritts & Co. Organ Builders has been dedicated to the design and construction of high-quality pipe organs.
X-ALT-DESC;FMTTYPE=text/html:<span style="font-size: 12px\; line-height: 19.2px\;">Since the founding of the company in 1979\, Paul&nbsp\;</span>Fritts<span style="font-size: 12px\; line-height: 19.2px\;">&nbsp\;&amp\; Co. Organ Builders has been dedicated to the design and construction of high-quality pipe organs.&nbsp\;</span>
LOCATION:Paul Fritts & Co 630 121st St E\, Tacoma\, WA 98445
UID:e.9280.248
SEQUENCE:3
DTSTAMP:20260423T070353Z
URL:https://members.masterbuilderspierce.com/events/details/2016-design-professionals-council-meeting-march-paul-fritts-co-248
END:VEVENT

END:VCALENDAR
