BEGIN:VCALENDAR
VERSION:2.0
PRODID:-//ChamberMaster//Event Calendar 2.0//EN
METHOD:PUBLISH
X-PUBLISHED-TTL:P3D
REFRESH-INTERVAL:P3D
CALSCALE:GREGORIAN
BEGIN:VEVENT
DTSTART:20160115T013000Z
DTEND:20160115T033000Z
X-MICROSOFT-CDO-ALLDAYEVENT:FALSE
SUMMARY:2016 Design Professionals Council Meeting - January BUNCO Night at Pental Granite & Marble
DESCRIPTION:Join us for our first DPC meeting of the year - a fun night of BUNCO and networking hosted at Pental Granite & Marble in Fife.
X-ALT-DESC;FMTTYPE=text/html:Join us for our first DPC meeting of the year - a fun night of BUNCO and networking hosted at Pental Granite &amp\; Marble in Fife.
LOCATION:Pental Granite & Marble 3900 Industry Drive E\, Fife\, WA 98424
UID:e.9280.48
SEQUENCE:3
DTSTAMP:20260423T104055Z
URL:https://members.masterbuilderspierce.com/events/details/2016-design-professionals-council-meeting-january-bunco-night-at-pental-granite-marble-48
END:VEVENT

END:VCALENDAR
