BEGIN:VCALENDAR
VERSION:2.0
PRODID:-//ChamberMaster//Event Calendar 2.0//EN
METHOD:PUBLISH
X-PUBLISHED-TTL:P3D
REFRESH-INTERVAL:P3D
CALSCALE:GREGORIAN
BEGIN:VEVENT
DTSTART:20160415T003000Z
DTEND:20160415T023000Z
X-MICROSOFT-CDO-ALLDAYEVENT:FALSE
SUMMARY:2016 Design Professionals Council Meeting - April
DESCRIPTION:Design Professionals Council Meeting
X-ALT-DESC;FMTTYPE=text/html:Design Professionals Council Meeting
LOCATION:
UID:e.9280.111
SEQUENCE:3
DTSTAMP:20260423T070216Z
URL:https://members.masterbuilderspierce.com/events/details/2016-design-professionals-council-meeting-april-111
END:VEVENT

END:VCALENDAR
