BEGIN:VCALENDAR
VERSION:2.0
PRODID:-//ChamberMaster//Event Calendar 2.0//EN
METHOD:PUBLISH
X-PUBLISHED-TTL:P3D
REFRESH-INTERVAL:P3D
CALSCALE:GREGORIAN
BEGIN:VEVENT
DTSTART:20160517T190000Z
DTEND:20160517T203000Z
X-MICROSOFT-CDO-ALLDAYEVENT:FALSE
SUMMARY:2016 Crab Feed Committee Meeting - May
DESCRIPTION:2016 Crab Feed Committee Meeting - Join the committee to help plan the annual Crab Feed to be held July 26 at the Puyallup Pavilion. We're hoping to change things up with our new venue this year!
X-ALT-DESC;FMTTYPE=text/html:2016 Crab Feed Committee Meeting - Join the committee to help plan the annual Crab Feed to be held July 26 at the Puyallup Pavilion. We&#39\;re hoping to change things up with our new venue this year!&nbsp\;&nbsp\;
LOCATION:MBA Pierce\, 1120 Pacific Ave\, Ste 301\, Tacoma\, WA
UID:e.9280.1364
SEQUENCE:3
DTSTAMP:20260423T040559Z
URL:https://members.masterbuilderspierce.com/events/details/2016-crab-feed-committee-meeting-may-1364
END:VEVENT

END:VCALENDAR
