BEGIN:VCALENDAR
VERSION:2.0
PRODID:-//ChamberMaster//Event Calendar 2.0//EN
METHOD:PUBLISH
X-PUBLISHED-TTL:P3D
REFRESH-INTERVAL:P3D
CALSCALE:GREGORIAN
BEGIN:VEVENT
DTSTART:20150225T020000Z
DTEND:20150224T200000Z
X-MICROSOFT-CDO-ALLDAYEVENT:FALSE
SUMMARY:2015 Remodelors Council Meeting - February
DESCRIPTION:
X-ALT-DESC;FMTTYPE=text/html:
LOCATION:4124 Tacoma Mall Blvd Tacoma\, WA 98409
UID:e.9280.42
SEQUENCE:3
DTSTAMP:20260424T042212Z
URL:https://members.masterbuilderspierce.com/events/details/2015-remodelors-council-meeting-february-42
END:VEVENT

END:VCALENDAR
