BEGIN:VCALENDAR
VERSION:2.0
PRODID:-//ChamberMaster//Event Calendar 2.0//EN
METHOD:PUBLISH
X-PUBLISHED-TTL:P3D
REFRESH-INTERVAL:P3D
CALSCALE:GREGORIAN
BEGIN:VEVENT
DTSTART:20151211T020000Z
DTEND:20151211T050000Z
X-MICROSOFT-CDO-ALLDAYEVENT:FALSE
SUMMARY:2015 President's Ball and Awards Celebration - December
DESCRIPTION:CLICK HERE TO REGISTER!
X-ALT-DESC;FMTTYPE=text/html:<a href="http://presidentsball2015.eventbrite.com">CLICK HERE TO REGISTER!</a>
LOCATION:Hotel Murano 1320 Broadway\, Tacoma\, WA 98402
UID:e.9280.40
SEQUENCE:3
DTSTAMP:20260423T134004Z
URL:https://members.masterbuilderspierce.com/events/details/2015-president-s-ball-and-awards-celebration-december-40
END:VEVENT

END:VCALENDAR
