BEGIN:VCALENDAR
VERSION:2.0
PRODID:-//ChamberMaster//Event Calendar 2.0//EN
METHOD:PUBLISH
X-PUBLISHED-TTL:P3D
REFRESH-INTERVAL:P3D
CALSCALE:GREGORIAN
BEGIN:VEVENT
DTSTART;VALUE=DATE:20150612
DTEND;VALUE=DATE:20150613
TRANSP:TRANSPARENT
X-MICROSOFT-CDO-ALLDAYEVENT:TRUE
SUMMARY:2015 MBA Pierce Annual Golf Classic
DESCRIPTION:
X-ALT-DESC;FMTTYPE=text/html:
LOCATION:Lipoma Firs Golf Course 10410 187th Street East Puyallup\, WA 98374
UID:e.9280.14
SEQUENCE:3
DTSTAMP:20260423T213242Z
URL:https://members.masterbuilderspierce.com/events/details/2015-mba-pierce-annual-golf-classic-06-12-2015-14
END:VEVENT

END:VCALENDAR
