BEGIN:VCALENDAR
VERSION:2.0
PRODID:-//ChamberMaster//Event Calendar 2.0//EN
METHOD:PUBLISH
X-PUBLISHED-TTL:P3D
REFRESH-INTERVAL:P3D
CALSCALE:GREGORIAN
BEGIN:VEVENT
DTSTART:20190408T170000Z
DTEND:20190408T190000Z
X-MICROSOFT-CDO-ALLDAYEVENT:FALSE
SUMMARY:2015 International Code Refresher - CANCELLED
DESCRIPTION:2015 International Code Refresher\nWe are well into the 2015 codes\, but questions still come up and issues still arise.\n\nIn this class we will:\n\n	Review the significant changes to the 2015 International Codes and Washington State Energy Code.\n	Discuss issues that come up in the plan review\, construction and enforcement of the codes.\n	Discuss where we are in the process of the 2018 codes.\n\n\n\nInstructors: Diane Glenn\, Ted Clifton
X-ALT-DESC;FMTTYPE=text/html:<h2 style="font-style:italic\;">2015 International Code Refresher</h2>\nWe are well into the 2015 codes\, but questions still come up and issues still arise.<br />\nIn this class we will:\n<ul>\n	<li>Review the significant changes to the 2015 International Codes and Washington State Energy Code.</li>\n	<li>Discuss issues that come up in the plan review\, construction and enforcement of the codes.</li>\n	<li>Discuss where we are in the process of the 2018 codes.</li>\n</ul>\n<br />\n<em>Instructors: Diane Glenn\, Ted Clifton</em>
LOCATION:MBA Pierce Office 3711 Center Street Tacoma\, WA 98409
UID:e.9280.3936
SEQUENCE:3
DTSTAMP:20260421T094417Z
URL:https://members.masterbuilderspierce.com/events/details/2015-international-code-refresher-cancelled-3936
END:VEVENT

END:VCALENDAR
