BEGIN:VCALENDAR
VERSION:2.0
PRODID:-//ChamberMaster//Event Calendar 2.0//EN
METHOD:PUBLISH
X-PUBLISHED-TTL:P3D
REFRESH-INTERVAL:P3D
CALSCALE:GREGORIAN
BEGIN:VEVENT
DTSTART:20150218T020000Z
DTEND:20150217T200000Z
X-MICROSOFT-CDO-ALLDAYEVENT:FALSE
SUMMARY:2015 General Membership Meeting - February
DESCRIPTION:
X-ALT-DESC;FMTTYPE=text/html:
LOCATION:620 South Hill Park Drive Puyallup\, WA 98373
UID:e.9280.30
SEQUENCE:3
DTSTAMP:20260424T042504Z
URL:https://members.masterbuilderspierce.com/events/details/2015-general-membership-meeting-february-30
END:VEVENT

END:VCALENDAR
