BEGIN:VCALENDAR
VERSION:2.0
PRODID:-//ChamberMaster//Event Calendar 2.0//EN
METHOD:PUBLISH
X-PUBLISHED-TTL:P3D
REFRESH-INTERVAL:P3D
CALSCALE:GREGORIAN
BEGIN:VEVENT
DTSTART:20151204T010000Z
DTEND:20151204T030000Z
X-MICROSOFT-CDO-ALLDAYEVENT:FALSE
SUMMARY:2015 Elected Officials Reception Presented By Newland Communities
DESCRIPTION:CLICK HERE TO REGISTER!
X-ALT-DESC;FMTTYPE=text/html:<a href="http://2015electedofficials.eventbrite.com">CLICK HERE TO REGISTER!</a>
LOCATION:MBA Pierce 1120 Pacific Ave\, Suite #301 Tacoma\, WA 98402
UID:e.9280.50
SEQUENCE:3
DTSTAMP:20260423T121352Z
URL:https://members.masterbuilderspierce.com/events/details/2015-elected-officials-reception-presented-by-newland-communities-12-03-2015-50
END:VEVENT

END:VCALENDAR
